{"text_format":"3","workbook":"xlsx","n_sheets":8,"sheets":["Учебный план","Лист3","Лист2","Лист4","Лист1","Лист5","Лист6","Комплектование"],"not_rendered":{"defined_names":4},"read":"whole","date_system":"1900"}

{"sheet":"Учебный план","index":0,"n_rows":96,"n_cols":20,"rows_kept":96,"merged":[[0,0,0,19],[1,0,1,19],[2,0,7,0],[2,1,7,1],[2,2,2,17],[2,18,5,19],[3,2,3,17],[4,2,5,5],[4,6,5,9],[4,10,5,13],[4,14,5,17],[6,2,7,2],[6,3,7,3],[6,4,7,4],[6,5,7,5],[6,6,7,6],[6,7,7,7],[6,8,7,8],[6,9,7,9],[6,10,7,10],[6,11,7,11],[6,12,7,12],[6,13,7,13],[6,14,7,14],[6,15,7,15],[6,16,7,16],[6,17,7,17],[6,18,7,18],[6,19,7,19],[8,1,8,19],[21,1,21,19],[60,1,60,19],[68,1,68,19],[77,1,77,19],[86,1,86,19],[93,1,93,19],[95,1,95,19]]}
["УТВЕРЖДАЮ\nДиректор МБУ ДО\n                                                                                                               «ДТДиМ\n                                                                                                                                            им. И.Х.Садыкова»НМР РТ\n                                                                                                                                              _______________ Р.Н.Салихзянов\n                                                                                                                                    «_____»____________2025г.\n"]
["УЧЕБНЫЙ ПЛАН \nМУНИЦИПАЛЬНОГО БЮДЖЕТНОГО УЧРЕЖДЕНИЯ ДОПОЛНИТЕЛЬНОГО ОБРАЗОВАНИЯ \n«ДВОРЕЦ ТВОРЧЕСТВА ДЕТЕЙ И МОЛОДЕЖИ имени И.Х.САДЫКОВА» НИЖНЕКАМСКОГО МУНИЦИПАЛЬНОГО РАЙОНА  РЕСПУБЛИКИ ТАТАРСТАН \nНА 2025–2026 УЧЕБНЫЙ ГОД\n"]
["№ п/п","Направленность. Вид, наименование ДООП, возраст учащихся,срок реализации","Комплектование",{"$nulls":15},"Из них занимаются в ДТДиМ"]
[null,null,"Количество групп, учащихся, часов в неделю по программе по годам обучения, форма аттестации"]
[null,null,"1 года обучения. Количество",{"$nulls":3},"2 года обучения. Количество",{"$nulls":3},"3 и более год обучения. Количество",{"$nulls":3},"Всего. Количество "]
[]
[null,null,"гр.","уч-ся","час.","форма атт.","гр.","уч-ся","час.","форма атт.","гр.","уч-ся","час.","форма атт.","гр.","уч-ся","час.","конц. час","гр.","учащиеся"]
[]
[null,"Техническая направленность "]
[1,"Авторская, \n«Начальное техническое моделирование с элементами компьютерной графики», \n7-10 лет , 4 года\n",2,30,8,"Практическая работа",1,12,6,"Практическая работа",2,20,12,"Практическая работа",5,62,26,null,2,20]
[2,"Модифицированная,\n«Начальное техническое моделирование»,                        7-12 лет,\n4 года\n",3,45,12,"Практическое задание",2,24,12,"Практическое задание",{"$nulls":4},5,69,24]
[3,"Модифицированная,\n«Основы робототехники»,                       10-16 лет,\n2 года\n",1,15,4,"Практическая работа",{"$nulls":8},1,15,4]
[4,"Модифицированная, \"Мастерская идей\",                              7-11 лет, 4 года ",{"$nulls":4},1,12,6,"Практическая работа",1,10,6,"Практическая работа",2,22,12,null,1,10]
[5,"Модифицированная, \"Увлекательное моделирование\",                                   7-11 лет, 4 года",{"$nulls":8},1,10,6,"Практическая работа",1,10,6]
[6,"Модифицированная, \"Анимационная студия \"Детство\",                                          7-12 лет, 4 года ",1,15,4,"Практическая работа",{"$nulls":4},3,30,18,"Защита проекта",4,45,22]
[7,"Модифицированная, \"Самоделкины\",                                                                7-12 лет,4 года ",{"$nulls":8},1,10,6,"Выставка",1,10,6]
[8,"Модифицированная, \"3D - моделирование\", 10- 16 лет, 1 год ",3,45,12,"Практическая работа",{"$nulls":8},3,45,12]
[9,"Модифицированная, \"Мастеринка\",                                                                7-10 лет, 2 года ",{"$nulls":4},1,12,6,"Практическая работа",{"$nulls":4},1,12,6]
[10,"Модифицированная, \"Электроник, 7-9 лет, 2 года",{"$nulls":4},1,12,6,"Практическая работа",{"$nulls":4},1,12,6]
[11,"Модифицированная, \"Умелые ручки\", 7-12 лет, 4 года",{"$nulls":8},1,10,6,"Практическая работа",1,10,6]
[null,"ИТОГО:",{"$f":"SUM(C10:C20)","v":10},{"$f":"SUM(D10:D20)","v":150},{"$f":"SUM(E10:E20)","v":40},null,{"$f":"SUM(G10:G20)","v":6},{"$f":"SUM(H10:H20)","v":72},{"$f":"SUM(I10:I20)","v":36},null,{"$f":"SUM(K10:K20)","v":9},{"$f":"SUM(L10:L20)","v":90},{"$f":"SUM(M10:M20)","v":54},null,{"$f":"SUM(O10:O20)","v":25},{"$f":"SUM(P10:P20)","v":312},{"$f":"SUM(Q10:Q20)","v":130},null,{"$f":"SUM(S10:S20)","v":3},30]
[null,"Художественная направленность "]
[12,"Авторская, «Курай», \n7-13 лет, 4 года\n",2,30,8,"Творческая работа ",1,12,6,"Творческая работа ",4,40,24,"Творческая работа ",7,82,38]
[13,"Модифицированная,                         «Тел күрке - сүз»,                               11-15 лет,\n3  года",{"$nulls":4},2,24,12,"Творческая работа ",{"$nulls":4},2,24,12]
[14,"Модифицированная,                         «Күңелле сәхнә»,                     11-15 лет,\n3  года",4,60,16,"Творческая работа ",{"$nulls":8},4,60,16]
[15,"Модифицированная,                         «Сәнгатьле сүз»,                           10-14 лет,\n1 год",1,15,4,"Творческая работа ",{"$nulls":8},1,15,4]
[16,"Модифицированная,                         «Таван театр»,                           9-11 лет,\n1 год",1,15,4,"Творческая работа ",{"$nulls":8},1,15,4]
[17,"Модифицированная\n«Народно-сценические танцы»,                                          7-13 лет,\n5 лет",2,30,8,"Творческая работа ",1,12,6,"Творческая работа ",1,10,6,"Творческая работа ",4,52,20,4]
[18,"Адаптированная,\n «Лепка»,                                                                        7-14 лет, 4 года\n",{"$nulls":8},1,10,6,"Практическая работа",1,10,6,null,1,10]
[19,"Модифицированная,\n«Художники»,                                         7-11 лет 4 года\n",1,15,4,"Отчетная выставка",4,48,24,"отчетная выставка",{"$nulls":4},5,63,28]
[20,"Модифицированная,\n«Веселая кисточка»,\n7-12 лет, 3 года\n",2,30,8,"выставка",{"$nulls":4},3,30,18,"Итоговая выставка",5,60,26]
[21,"Модифицированная,\n«ИЗО»,\n8-14 лет, 2 года\n",{"$nulls":4},1,12,6,"Итоговая выставка",2,20,12,null,3,32,18,null,3,32]
[22,"Авторская,\n«Основы дизайна»,\n7-13 лет, 4 года \n",{"$nulls":4},2,24,12,"Итоговая выставка",{"$nulls":4},2,24,12,null,2,24]
[23,"Авторская, «Бисероплетение»,\n 7-15 лет, 3 года \n",{"$nulls":4},1,12,6,"Выставка творческих работ",1,10,6,"Тестирование",2,22,12,null,2,22]
[24,"Авторская, \n«Цветоделие»,\n7-15 лет, 3 года\n",2,30,8,"Итоговая выставка",{"$nulls":8},2,30,8]
[25,"Модифицированная,\n«Юный дизайнер»,                                                         7-14 лет,4  года\n",2,30,8,"мини-выставка",{"$nulls":4},2,20,12,"Индивидуальная               творческая работа",4,50,20]
[26,"Авторская,\n«Волшебная кисточка»,\n7-15 лет, 3 года\n",{"$nulls":4},1,12,6,"мини-выставка",{"$nulls":4},1,12,6]
[27,"Модифицированная,\n«Калейдоскоп\nфантазий»,                                               10-15 лет, 3 года\n",{"$nulls":8},1,10,6,"итоговая творческая работа, выставка",1,10,6]
[28,"Модифицированная, \n«Кудесники»,                           7-10 лет, 2 года\n",1,15,4,"Итоговая выставка",{"$nulls":8},1,15,4]
[29,"Модифицированная, \n«Волшебная мастерская»,                                                      7-11 лет,  4 года\n",{"$nulls":8},1,10,6,"Итоговая выставка",1,10,6]
[30,"Модифицированная, \n«Art-студия»,                                         7-14 лет,4 года\n",1,15,4,"тестирование",{"$nulls":8},1,15,4]
[31,"Модифицированная, \n«Разноцветная палитра»,            7-11 лет,1год\n",1,15,4,"тестирование",{"$nulls":8},1,15,4]
[32,"Модифицированная, \n«Юные да Винчи», 7-11 лет, 1 год\n",1,15,4,"Тестирование         выставка ",{"$nulls":8},1,15,4]
[33,"Модифицированная, \n\"Вокал.«Радуга»,                                               7-10 лет, 2 года \n",1,15,4,"Участие в отчетном концерте",{"$nulls":8},1,15,4]
[34,"Модифицированная\n «Хореография.Грация»,\n5-14 лет, 4 года  ",2,30,8,"Контрольное выступление",{"$nulls":4},2,20,12,"Концертная         деятельность",4,50,20,20,2,20]
[35,"Модифицированная, \"Веселая сцена\"                                10-13 лет, 3 года ",1,15,4,"итоговый показ",{"$nulls":8},1,15,4]
[36,"Модифицированная, «Литературно драматическое»,\n7-15 лет, 4 года ",1,15,4,"Конторльные задания ",{"$nulls":4},1,10,6,"Тестирование",2,25,10,null,2,25]
[37,"Модифицированная, \n«РФА «Забавята»,                                                           7-11 лет, 3 года \n",2,30,8,"Прослушивание,           концертное выступление",{"$nulls":8},2,30,8,8]
[38,"Модифицированная, «РФА»,                                                               7-11 лет,\n4 года \n",{"$nulls":4},1,12,6,"Самостоятелҗная работа, тестирование",{"$nulls":4},1,12,6,6]
[39,"Модифицированная\n «Вокал»\n7-16 лет, 2 года",5,75,20,"Концертное выступление",{"$nulls":8},5,75,20,4,3,45]
[40,"Модифицированная,\n«Вокал « Веселые нотки»,                                              7-16 лет,  \n2 года ",1,15,4,"Отчетный концертный номер",{"$nulls":8},1,15,4]
[41,"Модифицированная,\n«Вокал. \"Каприз»,                                                7-16 лет,  \n3 года ",{"$nulls":8},1,10,6,"Отчетный концертный номер",1,10,6]
[42,"Модифицированная\n «Хореография. Брависсимо»,\n7-16 лет, 7 лет",2,30,8,"Открытое занятие в форме показательных выступлений",{"$nulls":8},2,30,8,null,2,30]
[43,"Модифицированная\n «Ascension»,\n14-18 лет, 3 года",2,30,8,"тестирование",{"$nulls":8},2,30,8,null,2,30]
[44,"Модифицированная,\n«Вокал. Карамельки»,            7-15лет, \n4 года",{"$nulls":4},1,12,6,"участие в отчетном концерте",2,20,12,"участие в отчетном концерте",3,32,18,18,3,32]
[45,"Модифицированная, \"Художественное слово\"                        8-13 лет ,2 года",1,15,4,"Педагогическое наблюдение , показ",{"$nulls":8},1,15,4]
[46,"Модифицированная\n «Театральная студия \"Браво»,\n10-14 лет, 1 год",2,30,8,"Практическая работа",{"$nulls":8},2,30,8]
[47,"Модифицированная\n «Театральная студия \"Тарарабумбия», \n10-15 лет, 1 год",1,15,4,"творческий показ ",{"$nulls":8},1,15,4]
[48,"Модифицированная\n «Театральная студия \"Настроение»,\n7-12 лет, 4 года",{"$nulls":8},1,10,6,"Итоговый показ",1,10,6]
[null,"ИТОГО:",{"$f":"SUM(C23:C59)","v":42},{"$f":"SUM(D23:D59)","v":630},{"$f":"SUM(E23:E59)","v":168},null,{"$f":"SUM(G23:G59)","v":15},{"$f":"SUM(H23:H59)","v":180},{"$f":"SUM(I23:I59)","v":90},null,{"$f":"SUM(K23:K59)","v":23},{"$f":"SUM(L23:L59)","v":230},{"$f":"SUM(M23:M59)","v":138},null,{"$f":"SUM(O23:O59)","v":80},1040,396,{"$f":"SUM(R23:R59)","v":60},{"$f":"SUM(S29:S59)","v":22},{"$f":"SUM(T29:T59)","v":270}]
[null,"Туристско-краеведческая направленность"]
[49,"Авторская,\n«Туган як табигатен өйрәнү», 7-12 лет, 3 года \n",1,15,4,"Тестирование",2,24,12,"творческая работа",2,20,12," Итоговая выстовка",5,59,28]
[50,"Авторская,   \n«Краеведение», 7-10 лет, \n3 года\n",{"$nulls":4},1,12,6," Итоговая выстовка",{"$nulls":4},1,12,6]
[51,"Модифицированная \n«Туган як тарихын һәм мәдәниятен өйрәнү»                 7-11 лет, 4 года\n",2,30,8,"Творческая работа",{"$nulls":8},2,30,8]
[52,"Модифицированная, \n«Изучение истории и культуры русского народа»,\n10-13 лет, 3 года\n",{"$nulls":8},1,10,6,"Тестирование",1,10,6]
[53,"Модифицированная\n«Юный стрелок»\n11-16 лет, 2 года\n",2,30,8,"тестирование",{"$nulls":8},2,30,8]
[54,"Модифицированная\n«Орнамент в народном творчестве»,                                                  7-11 лет,2 года\n",3,45,12,"Отчетная выставка",2,24,12,"Контрольная работа",{"$nulls":4},5,69,24]
[null,"ИТОГО:",{"$f":"SUM(C62:C67)","v":8},{"$f":"SUM(D62:D67)","v":120},{"$f":"SUM(E62:E67)","v":32},null,{"$f":"SUM(G62:G67)","v":5},{"$f":"SUM(H62:H67)","v":60},{"$f":"SUM(I62:I67)","v":30},null,{"$f":"SUM(K62:K67)","v":3},{"$f":"SUM(L62:L67)","v":30},{"$f":"SUM(M62:M67)","v":18},null,{"$f":"SUM(O62:O67)","v":16},{"$f":"SUM(P62:P67)","v":210},{"$f":"SUM(Q62:Q67)","v":80}]
[null,"Естественнонаучная направленность"]
[55,"Модифицированная, \n«Географическое творчество»,\n10-16 лет, 1 год\n",2,30,8,"Творческое задание",{"$nulls":8},2,30,8]
[56,"Модифицированная, \n«Занимательная география»,\n10-16 лет, 1 год\n",1,15,4,"Тестирование",{"$nulls":8},1,15,4]
[57,"Модифицированная, \n«Школа Кота да Винчи»,\n11-13 лет, 2 года\n",{"$nulls":4},1,12,6,"защита реферата",{"$nulls":4},1,12,6]
[58,"Модифицированная, \n«Уйла,  эзлә,тап»,\n12-16 лет, 1 год\n",1,15,4,"защита реферата",{"$nulls":8},1,15,4]
[59,"Модифицированная, \n«Яшь эзләнүчеләр»,\n12-16 лет, 3 года\n",{"$nulls":8},1,10,6,"Защита проекта",1,10,6]
[60,"Модифицированная,                      «Юные экологи»,                                                                14-15 лет, 1 год",1,15,4,"Защита проекта",{"$nulls":8},1,15,4]
[61,"Авторская, \n«Веселый английский»,                                                   7-10 лет, \n3 года\n",{"$nulls":4},2,24,12,"Контрольная работа",1,10,6,"Конкурс",3,34,18]
[null,"ИТОГО:",{"$f":"SUM(C70:C76)","v":5},{"$f":"SUM(D70:D76)","v":75},{"$f":"SUM(E70:E76)","v":20},null,{"$f":"SUM(G70:G76)","v":3},{"$f":"SUM(H70:H76)","v":36},{"$f":"SUM(I70:I76)","v":18},null,{"$f":"SUM(K74:K76)","v":2},{"$f":"SUM(L74:L76)","v":20},{"$f":"SUM(M74:M76)","v":12},null,{"$f":"SUM(O70:O76)","v":10},{"$f":"SUM(P70:P76)","v":131},{"$f":"SUM(Q70:Q76)","v":50}]
[null,"Социально-гуманитарная направленность "]
[62,"Модифицированная, «Инициатива»,                       14-17 лет, \n1 год\n",1,15,4,"Защита проекта (конкурс)",{"$nulls":8},1,15,4,null,1,15]
[63,"Авторская, «Школа инициативы»,                        14-17 лет, \n3 года\n",1,15,4,"Защита проекта (конкурс)",{"$nulls":8},1,15,4,null,1,15]
[64,"Адаптированная,  \n«Шаг вперед»,                                    10-15 лет,      1 год\n",1,15,4,"Защита творческого проекта",{"$nulls":8},1,15,4,null,1,15]
[65,"Авторская, \n«Учеба профилактических волонтеров»,                        12-16 лет, \n3 года",1,15,4,"Зачет",{"$nulls":4},1,10,6,"Защита проекта",2,25,10,null,2,25]
[66,"Модифицированная, \"Прочитай-ка\",                                     7-11 лет, 1 год",1,15,4,"защита творческого проекта ",{"$nulls":8},1,15,4]
[67,"Модифицированная, \"Палитра эмоций\"             12-16 лет, 1 год",1,15,4,"Творческое задание",{"$nulls":8},1,15,4]
[68,"Модифицированная, \n«Мирас»                                           15-17 лет, 2 года\n",{"$nulls":4},2,24,12,"защита проекта",{"$nulls":4},2,24,12]
[null,"ИТОГО:",{"$f":"SUM(C79:C85)","v":6},{"$f":"SUM(D79:D85)","v":90},{"$f":"SUM(E79:E85)","v":24},null,{"$f":"SUM(G79:G85)","v":2},{"$f":"SUM(H79:H85)","v":24},{"$f":"SUM(I79:I85)","v":12},null,{"$f":"SUM(K79:K85)","v":1},{"$f":"SUM(L79:L85)","v":10},{"$f":"SUM(M79:M85)","v":6},null,{"$f":"SUM(O79:O85)","v":9},{"$f":"SUM(P79:P85)","v":124},{"$f":"SUM(Q79:Q85)","v":42},null,{"$f":"SUM(S79:S85)","v":5},{"$f":"SUM(T79:T85)","v":70}]
[null,"Физкультурно-спортивная направленность "]
[69,"Авторская,\n«Спортивные бальные танцы»,\n7-17 лет, 6 лет",1,15,4,"Учебно-тренировочные                         соревнования",{"$nulls":4},3,30,18,"Соревнования по спортивно -               бальным танцам ",4,45,22,12,4,45]
[70,"Типовая,  \n«Шахматы»,                      8-14 лет, 3 года\n",6,90,24,"Тестирование",6,72,36,"Тестирование",4,40,24,"Тестирование",15,202,84]
[null,"ИТОГО:",7,105,28,null,{"$f":"SUM(G88:G89)","v":6},{"$f":"SUM(H88:H89)","v":72},{"$f":"SUM(I88:I89)","v":36},null,{"$f":"SUM(K88:K89)","v":7},{"$f":"SUM(L88:L89)","v":70},{"$f":"SUM(M88:M89)","v":42},null,20,247,106,12,4,45]
[null,"ИТОГО ПО ВСЕМ НАПРАВЛЕННОСТЯМ: ",78,1170,312,null,37,444,222,null,45,450,270,null,160,2064,804,72,34,415]
[]
[]
[null,"Директор МБУ «Центр образования» НМР РТ                                                                                                                                                             Р.И.Джалолова           "]
[]
[null,"Заместитель главного бухгалтера ЦБ                                                                                                                                                                             Л.М. Шакирова"]

{"sheet":"Лист3","index":1,"n_rows":87,"n_cols":20,"rows_kept":87,"merged":[[0,0,0,19],[1,0,1,19],[2,0,7,0],[2,1,7,1],[2,2,2,17],[2,18,5,19],[3,2,3,17],[4,2,5,5],[4,6,5,9],[4,10,5,13],[4,14,5,17],[6,2,7,2],[6,3,7,3],[6,4,7,4],[6,5,7,5],[6,6,7,6],[6,7,7,7],[6,8,7,8],[6,9,7,9],[6,10,7,10],[6,11,7,11],[6,12,7,12],[6,13,7,13],[6,14,7,14],[6,15,7,15],[6,16,7,16],[6,17,7,17],[6,18,7,18],[6,19,7,19],[8,1,8,19],[20,1,20,19],[57,1,57,19],[66,1,66,19],[71,1,71,19],[78,1,78,19],[84,1,84,19],[86,1,86,19]]}
["УТВЕРЖДАЮ\nДиректор МБУ ДО\n                                                                                                                                    «Дворец творчества детей\n                                                                                                                                           и молодежи им. И.Х.Садыкова»\n                                                                                                                                              _______________ Р.Н.Салихзянов\n                                                                                                                                    «_____»____________2021 г.\n"]
["УЧЕБНЫЙ ПЛАН \nМУНИЦИПАЛЬНОГО БЮДЖЕТНОГО УЧРЕЖДЕНИЯ ДОПОЛНИТЕЛЬНОГО ОБРАЗОВАНИЯ \n«ДВОРЕЦ ТВОРЧЕСТВА ДЕТЕЙ И МОЛОДЕЖИ имени И.Х.САДЫКОВА» НИЖНЕКАМСКОГО МУНИЦИПАЛЬНОГО РАЙОНА  РЕСПУБЛИКИ ТАТАРСТАН \nНА 2021–2022 УЧЕБНЫЙ ГОД\n"]
["№ п/п","Направленность. Вид, наименование ДООП, возраст учащихся,срок реализации","Комплектование",{"$nulls":15},"Из них занимаются в ДТДиМ"]
[null,null,"Количество групп, учащихся, часов в неделю по программе по годам обучения"]
[null,null,"1 года обучения. Количество",{"$nulls":3},"2 года обучения. Количество",{"$nulls":3},"3 и более год обучения. Количество",{"$nulls":3},"Всего. Количество "]
[]
[null,null,"гр.","уч-ся","час.","форма атт.","гр.","уч-ся","час.","форма атт.","гр.","уч-ся","час.","форма атт.","гр.","уч-ся","час.","конц. час","гр.","уч-ся"]
[]
[null,"Техническая направленность "]
[1,"Авторская, \n«Начальное техническое моделирование с элементами компьютерной графики», \n7-10 лет , 3 года\n",2,30,8,"практическая работа ",1,12,6,"практическая работа",1,10,6,"практическая работа",4,52,20,null,1,22]
[2,"Авторская, \"Компьютерная графика\", 10-16 лет, 3 года",1,15,4,"выставка",1,12,6,"выставка",2,20,12,"выставка",4,47,22,null,4,47]
[3,"Модифицированная,\n«Техно-Арт»\n 7-16 лет, 2 года\n",2,30,8,"тестирование",1,12,6,"практическое задание",2,20,12,"защита проекта",5,62,26,null,5,62]
[4,"Модифицированная,\n«Основы конструирования и IT- технологии», 9-14 лет,\n3 года\n",{"$nulls":4},1,12,6,"практическое задание",{"$nulls":4},1,12,6]
[5,"Модифицированная, «Основы робототехники»,\n10-16 лет, 2 года\n",1,15,4,"тестирование",1,12,6,"защита проекта",{"$nulls":4},2,27,10]
[6,"Модифицированная, \"Мастерская идей\", 7-11 лет, 1 год ",1,15,4,"практическое задание",{"$nulls":8},1,15,4]
[7,"Модифицированная, «Основы моделирования»\n7-11 лет, 4 года \n",1,15,4,"тестирование, выставка",{"$nulls":8},1,15,4]
[8,"Модифицированная, \"Увлекательное моделирование\", 10-11 лет, 1 год",1,15,4,"прктическое задание",{"$nulls":8},1,15,4]
[9,"Модифицированная, \n«Паскалята», 10-15 лет, 1 год\n",1,15,4,"тестирование",{"$nulls":8},1,15,4]
[10,"Модифицированная, \"Самоделкины\", 10-11 лет, 1 год ",1,15,4,"выставка",{"$nulls":8},1,15,4]
[null,"ИТОГО:",{"$f":"SUM(C10:C19)","v":11},{"$f":"SUM(D10:D19)","v":165},{"$f":"SUM(E10:E19)","v":44},null,{"$f":"SUM(G10:G17)","v":5},{"$f":"SUM(H10:H17)","v":60},{"$f":"SUM(I10:I17)","v":30},null,5,50,30,null,{"$f":"SUM(O10:O19)","v":21},{"$f":"SUM(P10:P19)","v":275},{"$f":"SUM(Q10:Q19)","v":104},null,{"$f":"SUM(S10:S19)","v":10},{"$f":"SUM(T10:T19)","v":131}]
[null,"Художественная направленность "]
[11,"Авторская,\n«Хореография. «Шома бас»,7-13 лет,  5 лет\n",3,45,12,"творческая работа ",1,12,6,"творческая работа ",3,30,18,"отчетный концерт",7,87,36,36,5,57]
[12,"Модифицированная,\n«Литературно-драматический»,      10-18 лет,\n4  года\n",{"$nulls":8},1,10,6,"итоговая работа",1,10,6]
[13,"Авторская, «Курай», \n7-13 лет, 4 года\n",5,75,20,"творческая работа ",5,60,30,"творческая работа ",7,70,42,"творческая работа ",17,205,92]
[14,"Модифицированная,\n«Фольклор кряшен», \n9-17 лет, 5 лет\n",2,30,8,"тестирование",{"$nulls":8},2,30,8,8]
[15,"Модифицированная,\n«Җидегән чишмә», \n8-13 лет, 2 года\n",{"$nulls":4},2,24,12,"творческая работа ",{"$nulls":4},2,24,12]
[16,"Модифицированная, «Тел күрке - сүз»,      11-15 лет,\n3  года",2,30,8,"тестирование",{"$nulls":8},2,30,8]
[17,"Модифицированная,\n«Нәфис сүз», \n8-9 лет, 1 год\n",2,30,8,"творческая работа",{"$nulls":8},2,30,8]
[18,"Адаптированная,\n «Лепка», 7-14 лет, 4 года\n",{"$nulls":8},1,10,6,"отчетная выставка",1,10,6,null,1,10]
[19,"Модифицированная,\n«Художники»,7-11 лет, 1 год\n",6,90,24,"отчетная выставка",{"$nulls":8},6,90,24]
[20,"Модифицированная,\n«Веселая кисточка»,\n7-12 лет, 3 года\n",{"$nulls":4},3,36,18,"самост.\nработа, тестирование\n",1,10,6,"выставка, опрос, наблюдение",4,46,24]
[21,"Модифицированная,\n«ИЗО»,\n8-14 лет, 1 год\n",1,15,4,"итоговая выставка",{"$nulls":8},1,15,4,null,1,15]
[22,"Авторская,\n«Основы дизайна»,\n7-13 лет, 4 года \n",{"$nulls":4},2,24,12,"итоговая выставка",1,10,6,"итоговая выставка",3,34,18,null,3,34]
[23,"Авторская,\n«Бисероплетение» 7-15 лет, \n3 года Адаптированная, «Бусинка»,8-18 лет, 2 года \n",{"$nulls":4},1,12,6,"отчетная выставка",{"$nulls":4},1,12,6,null,1,12]
[24,"Авторская, «Бисероплетение»,\n 7-15 лет, 3 года \n",1,15,4,"выставка творческих работ",{"$nulls":8},1,15,4,null,1,15]
[25,"Авторская, \n«Цветоделие»,\n7-15 лет, 3 года\n",{"$nulls":4},2,24,12,"выставка",1,10,6,"выставка",3,34,18]
[26,"Модифицированная,\n«Юный дизайнер», 7-13 лет,4  года\n",2,30,8,"мини-выставка",{"$nulls":4},2,20,12,"индивидуальная творческая работа",4,50,20]
[27,"Авторская,\n«Волшебная кисточка»,\n7-15 лет, 3 года\n",1,15,4,"мини-выставка",{"$nulls":8},1,15,4]
[28,"Модифицированная,\n«Разноцветная палитра»,\n10-15 лет, 2 года\n",1,15,4,"тест",{"$nulls":8},1,15,4]
[29,"Модифицированная,\n«Калейдоскоп\nфантазий»,10-15 лет, 3 года\n",{"$nulls":4},1,12,6,"выставка",{"$nulls":4},1,12,6]
[30,"Модифицированная, \n«Art-студия», 7-11 лет, 2 года\n",1,15,4,null,4,48,24,"тестирование",{"$nulls":4},5,63,28,null,2,27]
[31,"Модифицированная, \n«Волшебная мастерская», 8-14 лет, 2 года\n",{"$nulls":4},3,36,18,"тестирование, выставка итоговых работ",{"$nulls":4},3,36,18]
[32,"Модифицированная, «Хореография. Брависсимо», \n7-16 лет, 7 лет",1,15,4,"Открытое занятие",1,12,6,"Открытое занятие",3,30,18,"Отчётный концерт",5,57,28,28,5,57]
[33,"Модифицированная, «Хореография. Микс», \n7-15 лет, 4 года\n",1,15,4,"Отчётный концерт",1,12,6,"Отчётный концерт",3,30,18,"Отчётный концерт",5,57,28,26]
[34,"Модифицированная\n«Народно-сценические танцы»,7-13 лет,\n3  года",2,30,8,"Отчётный концерт",1,12,6,"Отчётный концерт",{"$nulls":3},"Отчётный концерт",3,42,14]
[35,"Модифицированная, \n«Детство», 8-10 лет, 3 года\n",{"$nulls":3},"Концертное выступление",2,24,12,"Концертное выступление",{"$nulls":3},"Отчётный концерт",2,24,12,12,2,24]
[36,"Авторская,\n«Спортивные бальные танцы»,\n7-17 лет, 6 лет",2,30,8,"Учебно-тренировочные\nсоревнования",{"$nulls":3},"Учебно-тренировочные\nсоревнования",2,20,12,"Соревнования по спортивно-бальным танцам",4,50,20,20,2,20]
[37,"Авторская, «Вдохновение»,\n7-15 лет, 3 года",{"$nulls":3},"Концертное выступление",{"$nulls":3},"Концертное выступление",1,10,6,"Отчётный концерт",1,10,6,6,1,10]
[38,"Модифицированная, «Литературно драматическое»,\n7-15 лет, 3 года",{"$nulls":3},"Контрольные задания",{"$nulls":3},"Тестирование",1,10,6,"Итоговый показ ",1,10,6,null,1,6]
[40,"Модифицированная, \n«РФА «Забавята», 7-11 лет, 3 год \n",1,15,4,"Концертная деятельность",1,12,6,"Концертная деятельность",1,10,6,"Отчётный концерт",3,37,16]
[41,"Модифицированная, «РФА», 7-11 лет,\n4 года \n",{"$nulls":3},"Самостоятельная работа, тестирование",1,12,6,"Самостоятельная работа, тестирование",{"$nulls":3},"Отчётный концерт",1,12,6]
[42,"Модифицированная,\n«Вокал», 7-15 лет,\n2 года ",6,90,24,"Отчётный концерт",{"$nulls":3},"Отчётный концерт",{"$nulls":4},6,90,24,24,6,90]
[43,"Модифицированная\n «Хореография»,\n7-11 лет, 4 года",1,15,4,"Открытое занятие",{"$nulls":3},"Открытое занятие",{"$nulls":3},"Открытое занятие, тестирование",1,15,4]
[44,"Модифицированная\n «Мастерская красоты»,\n10-17 лет, 2 года",2,30,8,"Итоговая творческая работа ",{"$nulls":3},"Итоговая творческая работа ",{"$nulls":4},2,30,8]
[null,"Модифицированная\n «Ascension»,\n14-18 лет, 1 год",2,30,8,"Итоговый показ ",{"$nulls":8},2,30,8]
[45,"Модифицированная\n «Хореография. Фантазия»,\n7-18 лет, 3 года",{"$nulls":3},"Отчётный концерт",{"$nulls":3},"Отчётный концерт",3,30,18,"Отчётный концерт",3,30,18]
[null,"ИТОГО:",{"$f":"SUM(C22:C56)","v":45},{"$f":"SUM(D22:D56)","v":675},{"$f":"SUM(E22:E56)","v":180},null,{"$f":"SUM(G22:G56)","v":31},{"$f":"SUM(H22:H56)","v":372},{"$f":"SUM(I22:I56)","v":186},null,{"$f":"SUM(K22:K56)","v":31},{"$f":"SUM(L22:L56)","v":310},{"$f":"SUM(M22:M56)","v":186},null,{"$f":"SUM(O22:O56)","v":107},{"$f":"SUM(P22:P56)","v":1357},{"$f":"SUM(Q22:Q56)","v":552},160,31,377]
[null,"Туристско-краеведческая направленность"]
[46,"Авторская,\n«Туган як табигатен өйрәнү», 7-12 лет, 3 года \n",2,30,8,"тестирование",2,24,12,"творческая работа ",1,10,6," итоговая выстовка",5,64,26]
[47,"Авторская,   \n«Краеведение», 7-10 лет, \n3 года\n",1,15,4,"итоговая выставка",{"$nulls":8},1,15,4]
[48,"Модифицированная \n«Туган як тарихын һәм мәдәниятен өйрәнү»            7-11 лет, 4 года\n",2,30,8,"творческая работа ",{"$nulls":8},2,30,8]
[49,"Модифицированная, \n«Память»  10-14 лет, 3 года\n",1,15,4,"защита реферата",{"$nulls":4},1,10,6,"защита проекта",2,25,10]
[50,"Модифицированная, \n«Изучение истории и культуры русского народа»,\n10-13 лет, 3 года\n",{"$nulls":4},1,12,6,"тестирование",1,10,6,"защита проекта",2,22,12]
[51,"Модифицированная\n«Юный стрелок»\n11-16 лет, 2 года\n",1,15,4,"тестирование",1,12,6,"соревнования",{"$nulls":4},2,27,10]
[52,"Модифицированная\n«Меткий стрелок», 12-17 лет, 2 года\n",{"$nulls":4},1,12,6,"соревнования",{"$nulls":4},1,12,6]
[null,"ИТОГО:",{"$f":"SUM(C59:C65)","v":7},{"$f":"SUM(D59:D65)","v":105},{"$f":"SUM(E59:E65)","v":28},null,{"$f":"SUM(G59:G65)","v":5},{"$f":"SUM(H59:H65)","v":60},{"$f":"SUM(I59:I65)","v":30},null,{"$f":"SUM(K59:K65)","v":3},{"$f":"SUM(L59:L65)","v":30},{"$f":"SUM(M59:M65)","v":18},null,{"$f":"SUM(O59:O65)","v":15},{"$f":"SUM(P59:P65)","v":195},{"$f":"SUM(Q59:Q65)","v":76}]
[null,"Естественнонаучная направленность"]
[53,"Авторская, \n«Веселый английский»,7-10 лет, \n3 года\n",2,30,8,"контрольная работа",{"$nulls":8},2,30,8]
[54,"Модифицированная\n«Ищу, нахожу, сравниваю»\n10-17 лет, 5 лет\n",{"$nulls":8},1,10,6,"защита проектов, участие в конференциях",1,10,6]
[56,"Модифицированная, \n«Экошкола», 11-17 лет, 2 года\n",1,15,4,"итоговая выставка",1,12,6,"итоговая выставка",{"$nulls":4},2,27,10]
[null,"ИТОГО:",{"$f":"SUM(C68:C70)","v":3},{"$f":"SUM(D68:D70)","v":45},{"$f":"SUM(E68:E70)","v":12},null,{"$f":"SUM(G70:G70)","v":1},{"$f":"SUM(H70:H70)","v":12},{"$f":"SUM(I70:I70)","v":6},null,{"$f":"SUM(K69:K70)","v":1},{"$f":"SUM(L69:L70)","v":10},{"$f":"SUM(M69:M70)","v":6},null,{"$f":"SUM(O68:O70)","v":5},{"$f":"SUM(P68:P70)","v":67},{"$f":"SUM(Q68:Q70)","v":24}]
[null,"Социально-гуманитарная направленность "]
[57,"Авторская, «Школа инициативы», 14-17 лет, \n3 года\n",1,15,4,"Защита проекта",1,12,6,"Проведение конкурса «Актив года»",{"$nulls":3},"Защита проекта",2,27,10,null,2,27]
[58,"Адаптированная,  \n«Шаг», 10-15 лет, 1 год\n",1,14,4,"Защита творческих проектов",{"$nulls":8},1,14,4,null,1,14]
[59,"Авторская, \n«Учеба профилактических волонтеров», 13-16 лет, \n3 года",{"$nulls":3},"Зачет",1,12,6,"Зачет",1,10,6,"Защита проекта",2,22,12,null,2,22]
[60,"Модифицированная,\n«Основы журналистики», \n10-17 лет, 3 года\n",1,15,4,"тестирование",{"$nulls":4},1,10,6,"тестирование",2,25,10]
[61,"Модифицированная, \n«Школа проектной деятельности», 13-17 лет, 2 года",{"$nulls":3},"Защита проекта",2,24,12,"Защита проекта",{"$nulls":4},2,24,12]
[null,"ИТОГО:",{"$f":"SUM(C73:C77)","v":3},{"$f":"SUM(D73:D77)","v":44},{"$f":"SUM(E73:E77)","v":12},null,{"$f":"SUM(G73:G77)","v":4},{"$f":"SUM(H73:H77)","v":48},{"$f":"SUM(I73:I77)","v":24},null,{"$f":"SUM(K75:K77)","v":2},{"$f":"SUM(L75:L77)","v":20},{"$f":"SUM(M75:M77)","v":12},null,{"$f":"SUM(O73:O77)","v":9},{"$f":"SUM(P73:P77)","v":112},{"$f":"SUM(Q73:Q77)","v":48},null,5,63]
[null,"Физкультурно-спортивная направленность "]
[62,"Типовая,  \n«Шахматы»,8-14 лет, 3 года\n",{"$nulls":4},4,48,24,null,7,70,42,null,11,118,66]
[null,"ИТОГО:",{"$nulls":4},4,48,24,null,7,70,42,null,11,118,66]
[null,"ИТОГО ПО ВСЕМ НАПРАВЛЕННОСТЯМ: ",69,1034,275,null,50,600,300,null,49,490,294,null,168,2124,870,160,46,571]
[]
[]
[null,"Директор МБУ «Центр образования» НМР РТ                                                                                                                                                                                               Р.И.Джалолова           "]
[]
[null,"Заместитель главного бухгалтера ЦБ                                                                                                                                                                                                                    Л.М. Галяева "]

{"sheet":"Лист2","index":2,"n_rows":799,"n_cols":24,"rows_kept":799,"merged":[[132,3,132,4],[133,3,133,4],[134,3,134,4],[135,3,135,4],[136,3,136,4],[137,3,137,4],[138,3,138,4],[139,3,139,4],[140,3,140,4],[141,3,141,4],[142,3,142,4],[143,3,143,4],[144,3,144,4],[145,3,145,4],[147,3,147,4],[148,3,148,4],[149,3,149,4],[150,3,150,4],[151,3,151,4],[152,3,152,4],[153,3,153,4],[154,3,154,4],[155,3,155,4],[156,3,156,4],[157,3,157,4],[158,3,158,4],[159,3,159,4],[160,3,160,4],[161,3,161,4],[162,3,162,4],[163,3,163,4],[164,3,164,4],[166,3,166,4],[168,3,168,4],[200,2,200,3],[200,4,200,5],[200,6,200,7],[200,8,200,9],[200,10,200,11],[200,12,200,13],[421,5,422,5],[421,6,422,6],[421,7,422,7],[421,8,422,8],[421,9,422,9],[421,10,422,10],[421,11,422,11],[421,12,422,12],[421,13,422,13],[421,14,422,14],[421,15,422,15],[421,16,422,16],[421,17,422,17],[421,18,422,18],[421,19,422,19],[421,20,422,20],[421,21,422,21],[421,22,422,22],[574,13,574,14],[574,15,574,16],[575,13,575,14],[575,15,575,16],[576,13,576,14],[576,15,576,16],[578,13,578,14],[578,15,578,16],[579,13,579,14],[579,15,579,16],[581,13,581,14],[581,15,581,16],[582,13,582,14],[582,15,582,16],[583,13,583,14],[583,15,583,16],[584,13,584,14],[584,15,584,16],[585,13,585,14],[585,15,585,16],[586,13,586,14],[586,15,586,16],[587,13,587,14],[587,15,587,16],[588,13,588,14],[588,15,588,16],[589,13,589,14],[589,15,589,16],[590,13,590,14],[590,15,590,16],[591,13,591,14],[591,15,591,16],[592,13,592,14],[592,15,592,16],[593,13,593,14],[593,15,593,16],[595,13,595,14],[595,15,595,16],[596,13,596,14],[596,15,596,16],[598,13,598,14],[598,15,598,16],[599,13,599,14],[599,15,599,16],[600,13,600,14],[600,15,600,16],[601,13,601,14],[601,15,601,16],[602,13,602,14],[602,15,602,16],[603,13,603,14],[603,15,603,16],[604,13,604,14],[604,15,604,16],[605,13,605,14],[605,15,605,16],[606,13,606,14],[606,15,606,16],[691,7,691,8],[691,9,691,10],[691,11,691,12],[691,13,691,14],[692,7,692,8],[692,9,692,10],[692,11,692,12],[692,13,692,14],[692,15,692,16],[692,17,692,18],[693,7,693,8],[693,9,693,10],[694,7,694,8],[694,9,694,10],[694,11,694,12],[694,13,694,14],[694,15,694,16],[694,17,694,18],[695,7,695,8],[695,9,695,10],[695,11,695,12],[695,13,695,14],[695,15,695,16],[695,17,695,18],[696,7,696,8],[696,9,696,10],[696,11,696,12],[696,13,696,14],[696,15,696,16],[696,17,696,18],[697,7,697,8],[697,9,697,10],[697,11,697,12],[697,13,697,14],[697,15,697,16],[697,17,697,18],[698,7,698,8],[698,9,698,10],[698,11,698,12],[698,13,698,14],[698,15,698,16],[698,17,698,18],[699,7,699,8],[699,9,699,10],[699,11,699,12],[699,13,699,14],[699,15,699,16],[699,17,699,18],[700,7,700,8],[700,9,700,10],[700,11,700,12],[700,13,700,14],[700,15,700,16],[700,17,700,18],[701,7,701,8],[701,9,701,10],[701,11,701,12],[701,13,701,14],[701,15,701,16],[701,17,701,18],[702,7,702,8],[702,9,702,10],[702,11,702,12],[702,13,702,14],[702,15,702,16],[702,17,702,18],[703,7,703,8],[703,9,703,10],[704,7,704,8],[704,9,704,10],[704,11,704,12],[704,13,704,14],[704,15,704,16],[704,17,704,18],[708,8,708,9],[708,10,708,11],[708,12,708,13],[708,14,708,15],[708,16,708,17],[708,18,708,19],[709,8,709,9],[709,10,709,11],[709,12,709,13],[709,14,709,15],[709,16,709,17],[709,18,709,19],[710,8,710,9],[710,10,710,11],[710,12,710,13],[710,14,710,15],[710,16,710,17],[710,18,710,19],[711,8,711,9],[711,10,711,11],[711,12,711,13],[711,14,711,15],[711,16,711,17],[711,18,711,19],[712,8,712,9],[712,10,712,11],[712,12,712,13],[712,14,712,15],[712,16,712,17],[712,18,712,19],[713,8,713,9],[713,10,713,11],[713,12,713,13],[713,14,713,15],[713,16,713,17],[713,18,713,19],[714,8,714,9],[714,10,714,11],[714,12,714,13],[714,14,714,15],[714,16,714,17],[714,18,714,19],[715,8,715,9],[715,10,715,11],[715,12,715,13],[715,14,715,15],[715,16,715,17],[715,18,715,19],[716,8,716,9],[716,10,716,11],[716,12,716,13],[716,14,716,15],[716,16,716,17],[716,18,716,19],[717,8,717,9],[717,10,717,11],[717,12,717,13],[717,14,717,15],[717,16,717,17],[717,18,717,19],[718,8,718,9],[718,10,718,11],[718,12,718,13],[718,14,718,15],[718,16,718,17],[718,18,718,19],[719,8,719,9],[719,10,719,11],[719,12,719,13],[719,14,719,15],[720,8,720,9],[720,10,720,11],[720,12,720,13],[720,14,720,15],[720,16,720,17],[720,18,720,19],[721,8,721,9],[721,10,721,11],[722,8,722,9],[722,10,722,11],[735,6,735,7],[735,8,735,9],[735,10,735,11],[735,12,735,13],[736,6,736,7],[736,8,736,9],[736,10,736,11],[736,12,736,13],[736,14,736,15],[736,16,736,17],[737,6,737,7],[737,8,737,9],[738,6,738,7],[738,8,738,9],[738,10,738,11],[738,12,738,13],[738,14,738,15],[738,16,738,17],[739,6,739,7],[739,8,739,9],[739,10,739,11],[739,12,739,13],[739,14,739,15],[739,16,739,17],[740,6,740,7],[740,8,740,9],[740,10,740,11],[740,12,740,13],[740,14,740,15],[740,16,740,17],[741,6,741,7],[741,8,741,9],[741,10,741,11],[741,12,741,13],[741,14,741,15],[741,16,741,17],[742,6,742,7],[742,8,742,9],[742,10,742,11],[742,12,742,13],[742,14,742,15],[742,16,742,17],[743,6,743,7],[743,8,743,9],[743,10,743,11],[743,12,743,13],[743,14,743,15],[743,16,743,17],[744,6,744,7],[744,8,744,9],[744,10,744,11],[744,12,744,13],[744,14,744,15],[744,16,744,17],[745,6,745,7],[745,8,745,9],[745,10,745,11],[745,12,745,13],[745,14,745,15],[745,16,745,17],[746,6,746,7],[746,8,746,9],[746,10,746,11],[746,12,746,13],[746,14,746,15],[746,16,746,17],[747,6,747,7],[747,8,747,9],[748,6,748,7],[748,8,748,9],[748,10,748,11],[748,12,748,13],[748,14,748,15],[748,16,748,17],[754,6,754,7],[754,8,754,9],[754,10,754,11],[754,12,754,13],[755,6,755,7],[755,8,755,9],[755,10,755,11],[755,12,755,13],[755,14,755,15],[755,16,755,17],[756,6,756,7],[756,8,756,9],[757,6,757,7],[757,8,757,9],[757,10,757,11],[757,12,757,13],[757,14,757,15],[757,16,757,17],[758,6,758,7],[758,8,758,9],[758,10,758,11],[758,12,758,13],[758,14,758,15],[758,16,758,17],[759,6,759,7],[759,8,759,9],[759,10,759,11],[759,12,759,13],[759,14,759,15],[759,16,759,17],[760,6,760,7],[760,8,760,9],[760,10,760,11],[760,12,760,13],[760,14,760,15],[760,16,760,17],[761,6,761,7],[761,8,761,9],[761,10,761,11],[761,12,761,13],[761,14,761,15],[761,16,761,17],[762,6,762,7],[762,8,762,9],[762,10,762,11],[762,12,762,13],[762,14,762,15],[762,16,762,17],[763,6,763,7],[763,8,763,9],[763,10,763,11],[763,12,763,13],[763,14,763,15],[763,16,763,17],[764,6,764,7],[764,8,764,9],[764,10,764,11],[764,12,764,13],[764,14,764,15],[764,16,764,17],[765,6,765,7],[765,8,765,9],[765,10,765,11],[765,12,765,13],[765,14,765,15],[765,16,765,17],[766,6,766,7],[766,8,766,9],[767,6,767,7],[767,8,767,9],[767,10,767,11],[767,12,767,13],[767,14,767,15],[767,16,767,17]]}
[]
[]
[]
[]
[null,5]
[null,1]
[null,17]
[null,2]
[null,2]
[null,2]
[null,2]
[null,1]
[null,5]
[null,4]
[null,1]
[null,3]
[null,1]
[null,1]
[null,3]
[null,4]
[null,1]
[null,1]
[null,1]
[null,5]
[null,3]
[null,5]
[null,5]
[null,3]
[null,2]
[null,4]
[null,1]
[null,1]
[null,2]
[null,1]
[null,1]
[null,6]
[null,1]
[null,2]
[null,{"$f":"SUM(B5:B38)","v":99}]
{"$rows_empty":13}
[null,11,165,44,null,5,60,30,null,5,50,30,null,21,275,104]
[null,41,615,164,null,30,360,180,null,31,310,186,null,102,1285,530]
[null,7,105,28,null,5,60,30,null,3,30,18,null,15,195,76]
[null,3,45,12,null,1,12,6,null,1,10,6,null,5,67,24]
[null,3,45,12,null,4,48,24,null,2,20,12,null,9,113,48]
[{"$nulls":5},4,48,24,null,7,70,42,null,11,118,66]
[null,{"$f":"SUM(B53:B58)","v":65},{"$f":"SUM(C53:C58)","v":975},{"$f":"SUM(D53:D58)","v":260},null,{"$f":"SUM(F53:F58)","v":49},{"$f":"SUM(G53:G58)","v":588},{"$f":"SUM(H53:H58)","v":294},null,{"$f":"SUM(J53:J58)","v":49},{"$f":"SUM(K53:K58)","v":490},{"$f":"SUM(L53:L58)","v":294},null,{"$f":"SUM(N53:N58)","v":163},{"$f":"SUM(O53:O58)","v":2053},{"$f":"SUM(P53:P58)","v":848}]
[]
[]
[]
[]
[]
[null,{"$f":"SUM(B54:B64)","v":119},{"$f":"SUM(C54:C64)","v":1785},{"$f":"SUM(D54:D64)","v":476},null,4,48,24,null,6,60,36,null,23,{"$f":"SUM(O54:O64)","v":3831},{"$f":"SUM(P54:P64)","v":1592}]
[]
[]
[]
[]
[{"$nulls":9},2,30,8]
[{"$nulls":4},4,44,24,null,null,4,60,16]
[{"$nulls":4},4,52,20]
[{"$nulls":4},3,32,18]
[{"$nulls":4},1,10,6]
[{"$nulls":4},1,15,4]
[{"$nulls":4},1,15,4]
[{"$nulls":4},1,12,6,null,null,1,15,4]
[{"$nulls":4},5,75,20]
[{"$nulls":4},1,15,4]
[{"$nulls":4},1,15,4]
[{"$nulls":4},{"$f":"SUM(E71:E80)","v":22},{"$f":"SUM(F71:F80)","v":285},{"$f":"SUM(G71:G80)","v":110}]
[{"$nulls":9},2,30,8]
[null,null,1,12,6,{"$nulls":4},2,30,8]
[null,null,5,60,30]
[null,null,1,12,6]
[null,null,1,12,6]
[null,null,1,12,6]
[]
[null,null,4,48,24,{"$nulls":4},1,15,4]
[null,null,3,36,18,{"$nulls":4},1,15,4]
[null,null,1,12,6,{"$nulls":4},1,15,4]
[]
[{"$nulls":9},5,75,20]
[null,null,1,12,6]
[{"$nulls":9},1,15,4]
[null,null,2,24,12]
[null,null,1,12,6]
[null,null,1,12,6]
[]
[null,null,1,12,6,{"$nulls":4},6,90,24]
[null,null,1,12,6]
[]
[null,null,1,12,6,{"$nulls":4},5,75,20]
[null,null,2,24,12,{"$nulls":4},2,30,8]
[{"$nulls":9},{"$f":"SUM(J70:J104)","v":33},{"$f":"SUM(K70:K104)","v":495},{"$f":"SUM(L70:L104)","v":132}]
[]
[null,null,4,48,24]
[]
[{"$nulls":8},2,20,12]
[null,null,1,12,6,{"$nulls":3},7,70,42]
[]
[null,null,2,24,12]
[]
[null,null,2,24,12,{"$nulls":3},1,10,6]
[null,null,2,24,12]
[]
[]
[null,null,1,12,6,{"$nulls":3},2,20,12]
[null,null,{"$f":"SUM(C83:C118)","v":39},{"$f":"SUM(D83:D118)","v":468},{"$f":"SUM(E83:E118)","v":234},{"$nulls":3},1,10,6]
[]
[{"$nulls":8},1,10,6]
[]
[null,null,1,10,6]
[null,null,1,12,6]
[null,null,2,25,10,{"$nulls":3},1,10,6]
[{"$nulls":8},3,30,18,{"$nulls":3},44]
[null,null,2,30,8,{"$nulls":9},52]
[null,null,{"$f":"SUM(C123:C127)","v":6},{"$f":"SUM(D123:D127)","v":77},{"$f":"SUM(E123:E127)","v":30},{"$nulls":9},32]
[{"$nulls":8},3,30,18,{"$nulls":3},10]
[{"$nulls":8},3,30,18,{"$nulls":3},15]
[{"$nulls":8},1,10,6,{"$nulls":3},12]
[{"$nulls":14},15]
[{"$nulls":3},1,{"$nulls":10},15]
[{"$nulls":3},5,{"$nulls":10},75]
[{"$nulls":3},1,{"$nulls":4},1,10,6,{"$nulls":3},15]
[{"$nulls":3},1,{"$nulls":4},1,10,6,{"$nulls":3},{"$f":"SUM(O126:O135)","v":285}]
[{"$nulls":3},1,{"$nulls":4},1,10,6]
[{"$nulls":3},1]
[]
[{"$nulls":3},4]
[{"$nulls":3},3]
[{"$nulls":3},1]
[]
[{"$nulls":8},{"$f":"SUM(I109:I143)","v":28},{"$f":"SUM(J109:J143)","v":280},{"$f":"SUM(K109:K143)","v":168}]
[{"$nulls":3},1]
[]
[{"$nulls":3},2]
[{"$nulls":3},1]
[{"$nulls":3},1]
[]
[{"$nulls":3},1]
[]
[]
[{"$nulls":3},1]
[{"$nulls":3},1]
[{"$nulls":3},2]
[]
[]
[{"$nulls":3},4]
[]
[]
[{"$nulls":3},1]
[]
[{"$nulls":3},2]
[]
[{"$nulls":4},2]
[]
[{"$nulls":3},2]
[{"$nulls":3},1]
[{"$nulls":3},{"$f":"SUM(D133:D169)","v":38},{"$f":"SUM(E133:E169)","v":2}]
{"$rows_empty":30}
[null,null,{"$f":"SUM(C191:C200)","v":0},null,{"$f":"SUM(E191:E200)","v":0},null,{"$f":"SUM(G191:G200)","v":0},null,{"$f":"SUM(I191:I200)","v":0},null,{"$f":"SUM(K191:K200)","v":0},null,{"$f":"SUM(M191:M200)","v":0},null,22,285]
{"$rows_empty":7}
[null,11,165,44,null,5,60,30,null,6,60,36,null,22,285,110,null,11,114]
[null,33,495,132,null,39,468,234,null,28,280,168,null,100,1243,534,160,33,420]
[null,5,75,20,null,8,96,48,null,3,30,18,null,16,201,86]
[null,0,0,0,null,2,24,12,null,0,0,0,null,2,24,12]
[null,{"$f":"SUM(B209:B212)","v":49},{"$f":"SUM(C209:C212)","v":735},{"$f":"SUM(D209:D212)","v":196},null,{"$f":"SUM(F209:F212)","v":54},{"$f":"SUM(G209:G212)","v":648},{"$f":"SUM(H209:H212)","v":324},null,{"$f":"SUM(J209:J212)","v":37},{"$f":"SUM(K209:K212)","v":370},{"$f":"SUM(L209:L212)","v":222},null,{"$f":"SUM(N209:N212)","v":140},1753,742,160,44,534]
[]
[]
[]
[]
[null,11,165,44,null,5,60,30,null,6,60,36,null,22,285,110,null,11,114]
[null,33,495,132,null,39,468,234,null,28,280,168,null,100,1243,534,160,33,420]
[null,5,75,20,null,8,96,48,null,3,30,18,null,16,201,86]
[null,0,0,0,null,2,24,12,null,0,0,0,null,2,24,12]
[null,8,120,32,null,1,12,6,null,4,40,24,null,13,172,62,null,4,47]
[null,{"$f":"SUM(B218:B222)","v":57},{"$f":"SUM(C218:C222)","v":855},{"$f":"SUM(D218:D222)","v":228},null,{"$f":"SUM(F218:F222)","v":55},{"$f":"SUM(G218:G222)","v":660},{"$f":"SUM(H218:H222)","v":330},null,{"$f":"SUM(J218:J222)","v":41},{"$f":"SUM(K218:K222)","v":410},{"$f":"SUM(L218:L222)","v":246},null,{"$f":"SUM(N218:N222)","v":153},1925,804,160,48,581]
[]
[]
[]
[null,11,165,44,null,5,60,30,null,6,60,36,null,22,285,110,null,11,114]
[null,33,495,132,null,39,468,234,null,28,280,168,null,100,1243,534,160,33,420]
[null,5,75,20,null,8,96,48,null,3,30,18,null,16,201,86]
[null,0,0,0,null,2,24,12,null,0,0,0,null,2,24,12]
[null,7,105,28,null,1,12,6,null,2,20,12,null,10,137,46,null,5,47]
[null,8,120,32,null,1,12,6,null,4,40,24,null,13,172,62,null,4,47]
[null,{"$f":"SUM(B227:B232)","v":64},{"$f":"SUM(C227:C232)","v":960},{"$f":"SUM(D227:D232)","v":256},null,{"$f":"SUM(F227:F232)","v":56},{"$f":"SUM(G227:G232)","v":672},{"$f":"SUM(H227:H232)","v":336},null,{"$f":"SUM(J227:J232)","v":43},{"$f":"SUM(K227:K232)","v":430},{"$f":"SUM(L227:L232)","v":258},null,{"$f":"SUM(N227:N232)","v":163},2062,850,160,53,628]
[]
[]
[]
[]
[]
[{"$nulls":3},5,62]
[]
[]
[]
[]
[{"$nulls":3},1,10]
[{"$nulls":8},5,62]
[]
[{"$nulls":3},1,12]
[{"$nulls":3},2,20]
[{"$nulls":3},1,10]
[{"$nulls":3},1,12,{"$nulls":3},1,10]
[]
[]
[{"$nulls":8},1,12]
[{"$nulls":8},2,20]
[{"$nulls":8},1,10]
[{"$nulls":3},2,22,{"$nulls":3},1,12]
[]
[]
[{"$nulls":13},5,62,null,5,62]
[]
[{"$nulls":3},1,10]
[{"$nulls":3},5,75,{"$nulls":3},2,22]
[{"$nulls":3},4,48]
[{"$nulls":13},1,10]
[{"$nulls":3},1,10,{"$nulls":11},1,10]
[]
[{"$nulls":8},1,10,{"$nulls":3},1,12]
[{"$nulls":3},2,24,{"$nulls":3},5,75,{"$nulls":3},2,20,null,1,12]
[{"$nulls":8},4,48,{"$nulls":3},1,10,null,2,20]
[{"$nulls":3},1,15,{"$nulls":8},1,12,null,1,10]
[{"$nulls":8},1,10,{"$nulls":6},1,12]
[{"$nulls":3},5,75]
[]
[{"$nulls":3},{"$f":"SUM(D239:D273)","v":32},{"$f":"SUM(E239:E273)","v":405},{"$nulls":3},2,24]
[]
[{"$nulls":13},2,22]
[{"$nulls":16},2,22]
[{"$nulls":8},5,75]
[]
[{"$nulls":8},{"$f":"SUM(I245:I279)","v":31},{"$f":"SUM(J245:J279)","v":390}]
[{"$nulls":3},28,{"$nulls":9},1,10]
[{"$nulls":13},5,75,null,1,10]
[{"$nulls":3},6,{"$nulls":9},4,48,null,5,75]
[{"$nulls":16},4,48]
[{"$nulls":13},1,10]
[]
[]
[{"$nulls":13},2,24]
[{"$nulls":16},2,24]
[]
[]
[{"$nulls":13},5,75,null,5,75]
[]
[{"$nulls":13},{"$f":"SUM(N259:N293)","v":31},{"$f":"SUM(O259:O293)","v":390},null,{"$f":"SUM(Q259:Q293)","v":30},{"$f":"SUM(R259:R293)","v":380}]
[]
[]
[]
[{"$nulls":9},211]
[{"$nulls":9},1059]
[{"$nulls":9},235]
[{"$nulls":3},12,{"$nulls":5},132]
[{"$nulls":3},34,{"$nulls":5},137]
[{"$nulls":3},6,{"$nulls":5},172]
[{"$nulls":9},{"$f":"SUM(J298:J303)","v":1946}]
[{"$nulls":3},12]
[]
[{"$nulls":9},211]
[{"$nulls":3},12,{"$nulls":5},989]
[{"$nulls":9},230]
[{"$nulls":3},24,{"$nulls":5},132]
[{"$nulls":9},76]
[{"$nulls":9},191]
[{"$nulls":9},{"$f":"SUM(J307:J312)","v":1829}]
[{"$nulls":3},20]
[]
[{"$nulls":3},{"$f":"SUM(D281:D315)","v":154}]
[]
[]
[]
[]
[{"$nulls":3},6,90,24,null,5,60,30,null,6,60,36,null,17,211,94]
[{"$nulls":3},33,495,132,null,22,264,132,null,23,230,138,null,78,989,402]
[{"$nulls":3},8,120,32,null,5,60,30,null,5,50,30,null,18,230,92]
[{"$nulls":3},8,120,32,{"$nulls":5},1,12,6,null,9,132,38]
[{"$nulls":3},2,30,8,null,3,36,18,null,1,10,6,null,6,76,32]
[{"$nulls":3},5,75,20,null,8,96,48,{"$nulls":5},15,191,81]
[{"$nulls":3},{"$f":"SUM(D321:D326)","v":62},{"$f":"SUM(E321:E326)","v":930},{"$f":"SUM(F321:F326)","v":248},null,{"$f":"SUM(H321:H326)","v":43},{"$f":"SUM(I321:I326)","v":516},{"$f":"SUM(J321:J326)","v":258},null,{"$f":"SUM(L321:L326)","v":36},{"$f":"SUM(M321:M326)","v":362},{"$f":"SUM(N321:N326)","v":216},null,{"$f":"SUM(P321:P326)","v":143},{"$f":"SUM(Q321:Q326)","v":1829},{"$f":"SUM(R321:R326)","v":739}]
{"$rows_empty":9}
[null,null,6,90,24,null,8,96,48,null,4,40,24,null,18,226,96]
[null,null,39,585,156,null,21,252,126,null,24,240,144,null,84,1077,426]
[null,null,8,120,32,null,4,48,24,null,6,60,36,null,18,228,92]
[null,null,8,120,32,{"$nulls":5},1,10,6,null,9,130,38]
[null,null,2,30,8,null,3,36,18,null,1,10,6,null,6,76,32]
[null,null,6,90,24,null,8,96,48,null,2,20,12,null,16,206,84]
[null,null,{"$f":"SUM(C337:C342)","v":69},{"$f":"SUM(D337:D342)","v":1035},{"$f":"SUM(E337:E342)","v":276},null,{"$f":"SUM(G337:G342)","v":44},{"$f":"SUM(H337:H342)","v":528},{"$f":"SUM(I337:I342)","v":264},null,{"$f":"SUM(K337:K342)","v":38},{"$f":"SUM(L337:L342)","v":380},{"$f":"SUM(M337:M342)","v":228},null,{"$f":"SUM(O337:O342)","v":151},{"$f":"SUM(P337:P342)","v":1943},{"$f":"SUM(Q337:Q342)","v":768}]
[]
[]
[]
[null,null,6,90,24,null,8,96,48,null,4,40,24,null,18,226,96]
[null,null,42,630,168,null,21,252,126,null,24,240,144,null,87,1122,438]
[null,null,8,120,32,null,4,48,24,null,6,60,36,null,18,228,92]
[null,null,8,120,32,{"$nulls":5},1,10,6,null,9,130,38]
[null,null,2,30,8,null,3,36,18,null,1,10,6,null,6,76,32]
[null,null,6,90,24,null,8,96,48,null,2,20,12,null,16,206,84]
[null,null,{"$f":"SUM(C347:C352)","v":72},{"$f":"SUM(D347:D352)","v":1080},{"$f":"SUM(E347:E352)","v":288},null,{"$f":"SUM(G347:G352)","v":44},{"$f":"SUM(H347:H352)","v":528},{"$f":"SUM(I347:I352)","v":264},null,{"$f":"SUM(K347:K352)","v":38},{"$f":"SUM(L347:L352)","v":380},{"$f":"SUM(M347:M352)","v":228},null,{"$f":"SUM(O347:O352)","v":154},{"$f":"SUM(P347:P352)","v":1988},{"$f":"SUM(Q347:Q352)","v":780}]
[]
[]
[null,null,6,90,24,null,8,96,48,null,4,40,24,null,18,226,96]
[null,null,43,645,172,null,21,252,126,null,24,240,144,null,88,1137,442]
[null,null,8,120,32,null,4,48,24,null,6,60,36,null,18,228,92]
[null,null,8,120,32,{"$nulls":5},1,10,6,null,9,130,38]
[null,null,2,30,8,null,3,36,18,null,1,10,6,null,6,76,32]
[null,null,6,90,24,null,8,96,48,null,2,20,12,null,16,206,84]
[null,null,{"$f":"SUM(C356:C361)","v":73},{"$f":"SUM(D356:D361)","v":1095},{"$f":"SUM(E356:E361)","v":292},null,{"$f":"SUM(G356:G361)","v":44},{"$f":"SUM(H356:H361)","v":528},{"$f":"SUM(I356:I361)","v":264},null,{"$f":"SUM(K356:K361)","v":38},{"$f":"SUM(L356:L361)","v":380},{"$f":"SUM(M356:M361)","v":228},null,{"$f":"SUM(O356:O361)","v":155},{"$f":"SUM(P356:P361)","v":2003},{"$f":"SUM(Q356:Q361)","v":784}]
[]
[]
[]
[]
[{"$nulls":3},6,90,8,96,4,40,18,226,7,82]
[{"$nulls":3},43,645,21,252,24,240,88,1137,24,318]
[{"$nulls":3},8,120,4,48,6,60,18,228]
[{"$nulls":3},8,120,null,null,1,10,9,130]
[{"$nulls":3},2,30,3,36,1,10,6,76,4,52]
[{"$nulls":3},6,90,8,96,2,20,16,206,4,47]
[{"$nulls":3},{"$f":"SUM(D367:D372)","v":73},1095,44,528,38,380,155,2003,39,499]
[]
[]
[]
[{"$nulls":3},6,90,24,null,8,96,48,null,4,40,24,null,18,226,96]
[{"$nulls":3},42,630,168,null,21,252,126,null,24,240,144,null,87,1122,438]
[{"$nulls":3},8,120,32,null,4,48,24,null,5,50,30,null,17,218,86]
[{"$nulls":3},8,120,32,{"$nulls":5},1,10,6,null,9,130,38]
[{"$nulls":3},5,75,20,null,3,36,18,null,1,10,6,null,9,121,44]
[{"$nulls":3},6,90,24,null,8,96,48,null,2,20,12,null,16,206,84]
[{"$nulls":3},{"$f":"SUM(D377:D382)","v":75},{"$f":"SUM(E377:E382)","v":1125},{"$f":"SUM(F377:F382)","v":300},null,{"$f":"SUM(H377:H382)","v":44},{"$f":"SUM(I377:I382)","v":528},{"$f":"SUM(J377:J382)","v":264},null,{"$f":"SUM(L377:L382)","v":37},{"$f":"SUM(M377:M382)","v":370},{"$f":"SUM(N377:N382)","v":222},null,{"$f":"SUM(P377:P382)","v":156},{"$f":"SUM(Q377:Q382)","v":2023},{"$f":"SUM(R377:R382)","v":786}]
[]
[]
[]
[null,null,6,90,24,null,8,96,48,null,4,40,24,null,18,226,96,null,7,82]
[null,null,42,630,168,null,21,252,126,null,24,240,144,null,87,1122,438,150,31,390]
[null,null,8,120,32,null,4,48,24,null,5,50,30,null,17,218,86]
[null,null,8,120,32,{"$nulls":5},1,10,6,null,9,130,38]
[null,null,5,75,20,null,3,36,18,null,1,10,6,null,9,121,44,null,7,97]
[null,null,6,90,24,null,8,96,48,null,2,20,12,null,16,206,84,22,4,47]
[null,null,{"$f":"SUM(C387:C392)","v":75},{"$f":"SUM(D387:D392)","v":1125},{"$f":"SUM(E387:E392)","v":300},null,{"$f":"SUM(G387:G392)","v":44},{"$f":"SUM(H387:H392)","v":528},{"$f":"SUM(I387:I392)","v":264},null,{"$f":"SUM(K387:K392)","v":37},{"$f":"SUM(L387:L392)","v":370},{"$f":"SUM(M387:M392)","v":222},null,{"$f":"SUM(O387:O392)","v":156},2023,786,172,49,616]
[]
[]
[]
[]
[{"$nulls":3},6,90,24,null,8,96,48,null,4,40,24,null,18,226,96,null,7,82]
[{"$nulls":3},44,660,176,null,21,253,126,null,25,250,150,null,90,1163,452,128,31,390]
[{"$nulls":3},8,120,32,null,4,48,24,null,5,50,30,null,17,218,86]
[{"$nulls":3},8,120,32,{"$nulls":5},1,10,6,null,9,130,38]
[{"$nulls":3},5,75,20,null,3,36,18,null,1,10,6,null,9,121,44,null,7,97]
[{"$nulls":3},6,90,24,null,8,96,48,null,2,20,12,null,16,206,84,22,4,47]
[{"$nulls":3},{"$f":"SUM(D398:D403)","v":77},{"$f":"SUM(E398:E403)","v":1155},{"$f":"SUM(F398:F403)","v":308},null,{"$f":"SUM(H398:H403)","v":44},{"$f":"SUM(I398:I403)","v":529},{"$f":"SUM(J398:J403)","v":264},null,{"$f":"SUM(L398:L403)","v":38},{"$f":"SUM(M398:M403)","v":380},{"$f":"SUM(N398:N403)","v":228},null,{"$f":"SUM(P398:P403)","v":159},2064,800,150,49,616]
[]
[]
[{"$nulls":7},6,90,8,96,4,40,18,226]
[{"$nulls":7},44,660,21,253,25,250,90,1163]
[{"$nulls":7},8,120,4,48,5,50,17,218]
[{"$nulls":7},8,120,null,null,1,10,9,130]
[{"$nulls":7},5,75,3,36,1,10,9,121]
[{"$nulls":7},6,90,8,96,2,20,16,206]
[{"$nulls":7},{"$f":"SUM(H407:H412)","v":77},1155,44,529,38,380,159,2064]
{"$rows_empty":7}
[{"$nulls":5},6,90,24,null,8,96,48,null,4,40,24,null,18,226,96,null,7,82]
[{"$nulls":5},44,660,176,null,21,253,126,null,25,250,150,null,90,1163,452,128,27,352]
[]
[{"$nulls":5},8,120,32,null,4,48,24,null,5,50,30,null,17,218,86]
[{"$nulls":5},8,120,32,{"$nulls":5},1,10,6,null,9,130,38]
[{"$nulls":5},5,75,20,null,3,36,18,null,1,10,6,null,9,121,44,null,7,97]
[{"$nulls":5},6,90,24,null,8,96,48,null,2,20,12,null,16,206,84,22,4,47]
[{"$nulls":5},{"$f":"SUM(F421:F427)","v":77},{"$f":"SUM(G421:G427)","v":1155},{"$f":"SUM(H421:H427)","v":308},null,{"$f":"SUM(J421:J427)","v":44},{"$f":"SUM(K421:K427)","v":529},{"$f":"SUM(L421:L427)","v":264},null,{"$f":"SUM(N421:N427)","v":38},{"$f":"SUM(O421:O427)","v":380},{"$f":"SUM(P421:P427)","v":228},null,{"$f":"SUM(R421:R427)","v":159},2064,800,150,45,578]
[]
[]
[]
[{"$nulls":9},42]
[{"$nulls":9},116]
[{"$nulls":9},10]
[{"$nulls":9},60]
[{"$nulls":9},37]
[{"$nulls":9},15]
[{"$nulls":9},30]
[{"$nulls":9},12]
[{"$nulls":9},75]
[{"$nulls":9},46]
[{"$nulls":9},39]
[{"$nulls":9},15]
[]
[{"$nulls":9},27]
[{"$nulls":9},39]
[{"$nulls":9},40,{"$nulls":3},47,null,42,42]
[{"$nulls":9},15,{"$nulls":3},75,null,116,116]
[{"$nulls":13},15,null,10,10]
[{"$nulls":9},12,{"$nulls":3},12,null,60,60]
[{"$nulls":9},34,{"$nulls":3},10,null,37,37]
[{"$nulls":9},12,{"$nulls":3},10,null,15,10]
[{"$nulls":9},10,{"$nulls":3},30,null,30,30]
[{"$nulls":9},30,{"$nulls":3},10,null,12,12]
[{"$nulls":9},12,{"$nulls":3},15,null,75,75,null,null,42]
[{"$nulls":9},47,{"$nulls":3},15,null,46,46,null,null,116]
[{"$nulls":13},15,null,39,39,null,null,10]
[{"$nulls":9},30,{"$nulls":3},10,null,15,15,null,null,60]
[{"$nulls":13},{"$f":"SUM(N447:N458)","v":264},{"$nulls":5},37]
[{"$nulls":9},12,{"$nulls":5},27,27,null,null,15]
[{"$nulls":9},30,{"$nulls":5},39,39,null,null,30]
[{"$nulls":9},15,{"$nulls":5},40,40,null,null,12]
[{"$nulls":9},30,{"$nulls":5},15,15,null,null,75]
[{"$nulls":9},12,{"$nulls":6},12,null,null,46]
[{"$nulls":15},12,34,null,null,39]
[{"$nulls":15},34,12,null,null,15]
[{"$nulls":9},60,{"$nulls":5},12,10]
[{"$nulls":9},30,{"$nulls":5},10,30,null,null,27]
[{"$nulls":9},50,{"$nulls":5},30,12,null,null,39]
[{"$nulls":9},10,{"$nulls":5},12,47,null,null,40]
[{"$nulls":9},{"$f":"SUM(J432:J470)","v":1054},{"$nulls":5},47,30,null,null,15]
[{"$nulls":16},12]
[{"$nulls":15},30,30,null,null,12]
[{"$nulls":16},15,null,null,34]
[{"$nulls":15},12,30,null,null,12]
[{"$nulls":15},30,12,null,null,10]
[{"$nulls":15},15,60,null,null,30]
[{"$nulls":15},30,50,null,null,12]
[{"$nulls":15},12,30,null,null,47]
[{"$nulls":16},10]
[{"$nulls":16},{"$f":"SUM(Q447:Q480)","v":1049},null,null,30]
[{"$nulls":15},60]
[{"$nulls":15},30,{"$nulls":3},12]
[{"$nulls":15},50,{"$nulls":3},30]
[{"$nulls":15},10,{"$nulls":3},15]
[{"$nulls":6},42,{"$nulls":3},64,{"$nulls":8},30]
[{"$nulls":6},116,{"$nulls":3},15,{"$nulls":8},12]
[{"$nulls":6},10,{"$nulls":3},10]
[{"$nulls":6},60,{"$nulls":3},12]
[{"$nulls":6},37,{"$nulls":3},12,{"$nulls":8},60]
[{"$nulls":6},15,{"$nulls":3},69,{"$nulls":8},30]
[{"$nulls":6},30,{"$nulls":3},15,{"$nulls":8},50]
[{"$nulls":6},12,{"$nulls":3},{"$f":"SUM(K486:K492)","v":197},{"$nulls":8},10]
[{"$nulls":6},75,{"$nulls":12},{"$f":"SUM(T455:T493)","v":1054}]
[{"$nulls":6},46]
[{"$nulls":6},39]
[{"$nulls":6},15]
[]
[{"$nulls":6},27]
[{"$nulls":6},39]
[{"$nulls":6},40]
[{"$nulls":6},15]
[]
[{"$nulls":6},12]
[{"$nulls":6},34]
[{"$nulls":6},12]
[{"$nulls":6},10]
[{"$nulls":6},30]
[{"$nulls":6},12]
[{"$nulls":6},47]
[]
[{"$nulls":6},30]
[]
[{"$nulls":6},12]
[{"$nulls":6},30]
[{"$nulls":6},15]
[{"$nulls":6},30]
[{"$nulls":6},12]
[]
[]
[{"$nulls":6},60]
[{"$nulls":6},30]
[{"$nulls":6},50]
[{"$nulls":6},10]
[{"$nulls":6},{"$f":"SUM(G486:G524)","v":1054}]
{"$rows_empty":13}
[{"$nulls":7},{"$f":"SUM(H527:H538)","v":0},{"$f":"SUM(I527:I538)","v":0},{"$f":"SUM(J527:J538)","v":0},null,{"$f":"SUM(L527:L538)","v":0},{"$f":"SUM(M527:M538)","v":0},{"$f":"SUM(N527:N538)","v":0},null,{"$f":"SUM(P527:P538)","v":0},{"$f":"SUM(Q527:Q538)","v":0},{"$f":"SUM(R527:R538)","v":0},null,{"$f":"SUM(T527:T538)","v":0},{"$f":"SUM(U527:U538)","v":0},{"$f":"SUM(V527:V538)","v":0}]
[]
[]
[{"$nulls":11},1,12,6,"Творческая работа ",3,30,18,"Отчетный концерт",4,42,24,24]
[{"$nulls":7},2,30,8,"Творческая работа ",3,36,18,"Творческая работа ",5,50,30,"Творческая работа ",10,116,56]
[{"$nulls":15},1,10,6,"Творческая работа ",1,10,6,6]
[{"$nulls":7},4,60,16,"тестирование",{"$nulls":8},4,60,16]
[{"$nulls":7},1,15,4,"Отчётное концертное выступление",1,12,6,"Отчётное концертное выступление",1,10,6,"Отчётное концертное выступление",3,37,16]
[{"$nulls":7},1,15,4,"Творческая работа ",{"$nulls":8},1,15,4]
[{"$nulls":7},2,30,8,"Творческая работа ",{"$nulls":8},2,30,8]
[{"$nulls":7},{"$f":"SUM(H542:H548)","v":10},{"$f":"SUM(I542:I548)","v":150},{"$f":"SUM(J542:J548)","v":40},null,{"$f":"SUM(L542:L548)","v":5},{"$f":"SUM(M542:M548)","v":60},{"$f":"SUM(N542:N548)","v":30},null,{"$f":"SUM(P542:P548)","v":10},{"$f":"SUM(Q542:Q548)","v":100},{"$f":"SUM(R542:R548)","v":60},null,{"$f":"SUM(T542:T548)","v":25},{"$f":"SUM(U542:U548)","v":310},{"$f":"SUM(V542:V548)","v":130},{"$f":"SUM(W542:W548)","v":30}]
{"$rows_empty":16}
[{"$nulls":7},10,150,40,2,24,12,9,90,54,21,264,106]
[{"$nulls":7},36,540,144,22,264,132,25,250,150,83,1054,426]
[{"$nulls":7},7,105,28,6,72,36,2,20,12,15,197,76]
[{"$nulls":7},7,105,28,2,24,12,{"$nulls":3},9,129,40]
[{"$nulls":7},5,75,20,1,12,6,1,10,6,7,97,32]
[{"$nulls":7},8,120,32,5,60,30,7,70,42,20,250,104]
[{"$nulls":7},{"$f":"SUM(H566:H571)","v":73},1095,292,38,456,228,44,440,264,155,1991,784]
[]
[]
[{"$nulls":7},4,42,4,42,null,null,1,null,12,null,null,1,12,6]
[{"$nulls":7},10,116,10,116,null,null,3,null,36,null,null,3,36,18]
[{"$nulls":7},1,10,1,10]
[{"$nulls":7},4,60,4,60]
[{"$nulls":7},3,37,3,37,null,null,1,null,12,null,null,1,12,6]
[{"$nulls":7},1,15,1,15]
[{"$nulls":7},2,30,2,30]
[{"$nulls":7},1,12,1,12,null,null,1,null,12,null,null,1,12,6]
[{"$nulls":7},5,75,5,75]
[{"$nulls":7},4,46,4,46,null,null,3,null,36,null,null,3,36,18]
[{"$nulls":7},3,39,3,39,null,null,2,null,24,null,null,2,24,12]
[{"$nulls":7},1,15,1,15]
[{"$nulls":7},2,27,2,27,null,null,1,null,12,null,null,1,12,6]
[{"$nulls":7},3,39,3,39,null,null,2,null,24,null,null,2,24,12]
[{"$nulls":7},4,40,4,40]
[{"$nulls":7},1,15,1,15]
[{"$nulls":7},1,12,1,12,null,null,1,null,12,null,null,1,12,6]
[{"$nulls":7},3,34,3,34,null,null,2,null,24,null,null,2,24,12]
[{"$nulls":7},1,12,1,12,null,null,1,null,12,null,null,1,12,6]
[{"$nulls":7},1,10,1,10]
[{"$nulls":7},2,30,2,30]
[{"$nulls":7},1,12,1,12,null,null,1,null,12,null,null,1,12,6]
[{"$nulls":7},4,47,4,47,null,null,1,null,12,null,null,1,12,6]
[{"$nulls":7},2,30,2,30]
[{"$nulls":7},1,12,1,12,null,null,1,null,12,null,null,1,12,6]
[{"$nulls":7},2,30,2,30]
[{"$nulls":7},1,15,1,15]
[{"$nulls":7},2,30,2,30]
[{"$nulls":7},1,12,1,12,{"$nulls":4},1,null,null,1,12,6]
[{"$nulls":7},3,60,5,60]
[{"$nulls":7},4,50,2,30]
[{"$nulls":7},2,30,4,50]
[{"$nulls":7},1,10,1,10,null,null,{"$f":"SUM(N575:N606)","v":21},null,{"$f":"SUM(P575:P606)","v":253}]
[{"$nulls":7},{"$f":"SUM(H575:H607)","v":81},{"$f":"SUM(I575:I607)","v":1054},{"$f":"SUM(J575:J607)","v":83},{"$f":"SUM(K575:K607)","v":1054}]
[]
[]
[{"$nulls":12},2,22]
[]
[]
[]
[]
[]
[]
[{"$nulls":12},1,12]
[]
[]
[{"$nulls":12},3,39]
[{"$nulls":12},1,15]
[{"$nulls":12},2,27]
[]
[]
[]
[]
[{"$nulls":12},2,22]
[]
[]
[]
[]
[{"$nulls":12},2,20]
[]
[{"$nulls":12},1,12]
[]
[]
[]
[]
[]
[{"$nulls":12},4,50]
[{"$nulls":12},2,30]
[{"$nulls":12},{"$f":"SUM(M611:M642)","v":20},{"$f":"SUM(N611:N642)","v":249}]
{"$rows_empty":8}
[{"$nulls":11},1,12,6,"практическая работа",{"$nulls":4},1,12,6]
[{"$nulls":7},5,75,20,"отчетная выставка",{"$nulls":8},5,75,20]
[{"$nulls":11},3,36,18,"Выставка",1,10,6,"Итоговая выставка",4,46,24]
[{"$nulls":7},1,15,4,"Итоговая выставка",2,24,12,"Итоговая выставка",{"$nulls":4},3,39,16]
[{"$nulls":7},1,15,4,"Итоговая выставка",{"$nulls":8},1,15,4]
[{"$nulls":7},1,15,4,"выставка творческих работ",1,12,6,"выставка творческих работ",{"$nulls":4},2,27,10]
[{"$nulls":7},1,15,4,"Итоговая выставка",2,24,12,"Итоговая выставка",{"$nulls":4},3,39,16]
[{"$nulls":15},4,40,24,"Индивидуальная               творческая работа",4,40,24]
[{"$nulls":7},1,15,4,"Мини -выставка",{"$nulls":8},1,15,4]
[{"$nulls":11},1,12,6,{"$nulls":5},1,12,6]
[{"$nulls":11},2,24,12,"Опрос",1,10,6,"Итоговая практическая работа",3,34,18]
[{"$nulls":11},1,12,6,"Итоговая выставка",{"$nulls":4},1,12,6]
[{"$nulls":15},1,10,6,"выставка итоговых работ",1,10,6]
[{"$nulls":7},2,30,8,"Отчетная            выставка те",{"$nulls":8},2,30,8]
[{"$nulls":7},{"$f":"SUM(H652:H665)","v":12},{"$f":"SUM(I652:I665)","v":180},{"$f":"SUM(J652:J665)","v":48},null,{"$f":"SUM(L652:L665)","v":13},{"$f":"SUM(M652:M665)","v":156},{"$f":"SUM(N652:N665)","v":78},null,{"$f":"SUM(P652:P665)","v":7},{"$f":"SUM(Q652:Q665)","v":70},{"$f":"SUM(R652:R665)","v":42},null,{"$f":"SUM(T652:T665)","v":32},{"$f":"SUM(U652:U665)","v":406},{"$f":"SUM(V652:V665)","v":168}]
{"$rows_empty":8}
[{"$nulls":7},12,180,48,3,36,18,9,90,54,24,306,120]
[{"$nulls":7},37,555,148,22,264,132,25,250,150,84,1069,430]
[{"$nulls":7},7,105,28,6,72,36,2,20,12,15,197,76]
[{"$nulls":7},8,120,32,2,24,12,{"$nulls":3},10,144,44]
[{"$nulls":7},5,75,20,1,12,6,1,10,6,7,97,32]
[{"$nulls":7},8,120,32,5,60,30,7,70,42,20,250,104]
[{"$nulls":7},{"$f":"SUM(H675:H680)","v":77},1155,308,39,468,234,44,440,264,160,2063,806]
[]
[]
[{"$nulls":7},12,180,48,3,36,18,9,90,54,24,306,120]
[{"$nulls":7},37,555,148,22,265,132,25,250,150,84,1070,430]
[{"$nulls":7},7,105,28,6,72,36,2,20,12,15,197,76]
[{"$nulls":7},8,120,32,2,24,12,{"$nulls":3},10,144,44]
[{"$nulls":7},5,75,20,1,12,6,1,10,6,7,97,32]
[{"$nulls":7},8,120,32,5,60,30,7,70,42,20,250,104]
[{"$nulls":7},{"$f":"SUM(H684:H689)","v":77},1155,308,39,469,234,44,440,264,160,2064,806]
[]
[{"$nulls":7},1,null,15,{"$nulls":9},1,15]
[{"$nulls":7},2,null,30,{"$nulls":5},2,null,20,null,4,50,2,20]
[{"$nulls":7},2,null,30,{"$nulls":9},2,30]
[{"$nulls":15},1,null,10,null,1,10,1,10]
[{"$nulls":7},2,null,30,{"$nulls":9},2,30]
[{"$nulls":11},1,null,12,{"$nulls":5},1,12]
[{"$nulls":7},3,null,45,null,1,null,12,{"$nulls":5},4,52,2,27]
[{"$nulls":15},1,null,10,null,1,10]
[{"$nulls":7},2,null,30,{"$nulls":9},2,30,2,30]
[{"$nulls":7},2,null,30,{"$nulls":9},2,30,2,30]
[{"$nulls":11},1,null,12,null,2,null,20,null,3,32,3,32]
[{"$nulls":7},1,null,15,{"$nulls":9},1,15]
[{"$nulls":7},2,null,30,{"$nulls":9},2,30]
[{"$nulls":15},1,null,10,null,1,10]
[{"$nulls":7},{"$f":"SUM(H692:H705)","v":17},null,{"$f":"SUM(J692:J705)","v":255},null,{"$f":"SUM(L692:L705)","v":3},null,{"$f":"SUM(N692:N705)","v":36},null,{"$f":"SUM(P692:P705)","v":7},null,{"$f":"SUM(R692:R705)","v":70},null,{"$f":"SUM(T692:T705)","v":27},{"$f":"SUM(U692:U705)","v":356},{"$f":"SUM(V692:V705)","v":12},{"$f":"SUM(W692:W705)","v":149}]
[]
[]
[{"$nulls":7},"Адаптированная,\n «Лепка», 7-14 лет, 4 года\n",{"$nulls":8},1,null,10,null,1,10,1,10]
[{"$nulls":7},"Модифицированная,\n«Художники»,7-11 лет,4 года\n",1,null,15,null,4,null,48,{"$nulls":5},5,63]
[{"$nulls":7},"Модифицированная,\n«Веселая кисточка»,\n7-12 лет, 3 года\n",2,null,30,{"$nulls":5},3,null,30,null,5,60]
[{"$nulls":7},"Модифицированная,\n«ИЗО»,\n8-14 лет, 3 года\n",{"$nulls":4},1,null,12,null,2,null,20,null,3,32,3,32]
[{"$nulls":7},"Авторская,\n«Основы дизайна»,\n7-13 лет, 4 года \n",{"$nulls":4},2,null,24,{"$nulls":5},2,24,2,24]
[{"$nulls":7},"Авторская, «Бисероплетение»,\n 7-15 лет, 3 года \n",{"$nulls":4},1,null,12,null,1,null,10,null,2,22,2,22]
[{"$nulls":7},"Авторская, \n«Цветоделие»,\n7-15 лет, 3 года\n",2,null,30,{"$nulls":9},2,30]
[{"$nulls":7},"Модифицированная,\n«Юный дизайнер», 7-14 лет,4  года\n",2,null,30,{"$nulls":5},2,2,20,null,4,50]
[{"$nulls":7},"Авторская,\n«Волшебная кисточка»,\n7-15 лет, 3 года\n",{"$nulls":4},1,null,12,{"$nulls":5},1,12]
[{"$nulls":7},"Модифицированная,\n«Калейдоскоп\nфантазий»,10-15 лет, 3 года\n",{"$nulls":8},1,null,10,null,1,10]
[{"$nulls":7},"Модифицированная, \n«Art-студия», 7-14 лет,4 года\n",1,null,15,{"$nulls":9},1,15]
[{"$nulls":7},"Модифицированная, \n«Кудесники», 7-10 лет, 2 года\n",1,null,15,{"$nulls":9},1,15]
[{"$nulls":7},"Модифицированная, \n«Волшебная мастерская»,            7-11 лет,  4 года\n",{"$nulls":8},1,null,10,null,1,10]
[{"$nulls":7},"Модифицированная, \n«Разноцветная палитра»,            7-11 лет, 1 год\n",1,null,15,{"$nulls":9},1,15]
[{"$nulls":7},"Модифицированная, \n«Юные да Винчи», 7-10 лет, 1 год\n",1,null,15,{"$nulls":9},1,16]
[{"$nulls":8},{"$f":"SUM(I709:I723)","v":11},null,{"$f":"SUM(K709:K723)","v":165},null,{"$f":"SUM(M709:M723)","v":9},null,{"$f":"SUM(O709:O723)","v":108},null,{"$f":"SUM(Q709:Q723)","v":11},{"$f":"SUM(R709:R723)","v":2},{"$f":"SUM(S709:S723)","v":110},null,{"$f":"SUM(U709:U723)","v":31},{"$f":"SUM(V709:V723)","v":384},{"$f":"SUM(W709:W723)","v":8},{"$f":"SUM(X709:X723)","v":88}]
{"$rows_empty":11}
[{"$nulls":6},1,null,15,{"$nulls":9},1,15]
[{"$nulls":6},2,null,30,{"$nulls":5},2,null,20,null,4,50,2,20]
[{"$nulls":6},2,null,30,{"$nulls":9},2,30]
[{"$nulls":14},1,null,10,null,1,10,1,10]
[{"$nulls":6},2,null,30,{"$nulls":9},2,30]
[{"$nulls":10},1,null,12,{"$nulls":5},1,12]
[{"$nulls":6},3,null,45,null,1,null,12,{"$nulls":5},4,57,2,27]
[{"$nulls":14},1,null,10,null,1,10]
[{"$nulls":6},2,null,30,{"$nulls":9},2,30,2,30]
[{"$nulls":6},2,null,30,{"$nulls":9},2,30,2,30]
[{"$nulls":10},1,null,12,null,2,null,20,null,3,32,3,32]
[{"$nulls":6},1,null,15,{"$nulls":9},1,15]
[{"$nulls":6},2,null,30,{"$nulls":9},2,30]
[{"$nulls":14},1,null,10,null,1,10]
[{"$nulls":6},{"$f":"SUM(G736:G749)","v":17},null,{"$f":"SUM(I736:I749)","v":255},null,{"$f":"SUM(K736:K749)","v":3},null,{"$f":"SUM(M736:M749)","v":36},null,{"$f":"SUM(O736:O749)","v":7},null,{"$f":"SUM(Q736:Q749)","v":70},null,{"$f":"SUM(S736:S749)","v":27},{"$f":"SUM(T736:T749)","v":361},{"$f":"SUM(U736:U749)","v":12},{"$f":"SUM(V736:V749)","v":149}]
[]
[]
[]
[]
[{"$nulls":6},1,null,15,{"$nulls":9},1,15]
[{"$nulls":6},2,null,30,{"$nulls":5},2,null,20,null,4,50,2,20]
[{"$nulls":6},2,null,30,{"$nulls":9},2,30]
[{"$nulls":14},1,null,10,null,1,10,1,10]
[{"$nulls":6},2,null,30,{"$nulls":9},2,30]
[{"$nulls":10},1,null,12,{"$nulls":5},1,12]
[{"$nulls":6},3,null,45,null,1,null,12,{"$nulls":5},4,57,2,27]
[{"$nulls":14},1,null,10,null,1,10]
[{"$nulls":6},2,null,30,{"$nulls":9},2,30,2,30]
[{"$nulls":6},2,null,30,{"$nulls":9},2,30,2,30]
[{"$nulls":10},1,null,12,null,2,null,20,null,3,32,3,32]
[{"$nulls":6},1,null,15,{"$nulls":9},1,15]
[{"$nulls":6},2,null,30,{"$nulls":9},2,30]
[{"$nulls":14},1,null,10,null,1,10]
[{"$nulls":6},{"$f":"SUM(G755:G768)","v":17},null,{"$f":"SUM(I755:I768)","v":255},null,{"$f":"SUM(K755:K768)","v":3},null,{"$f":"SUM(M755:M768)","v":36},null,{"$f":"SUM(O755:O768)","v":7},null,{"$f":"SUM(Q755:Q768)","v":70},null,{"$f":"SUM(S755:S768)","v":27},{"$f":"SUM(T755:T768)","v":361},{"$f":"SUM(U755:U768)","v":12},{"$f":"SUM(V755:V768)","v":149}]
[]
[{"$nulls":6},1,15,4,"Участие в отчетном концерте",{"$nulls":8},1,15,4]
[{"$nulls":6},2,30,8,"Контрольное выступление",{"$nulls":4},2,20,12,"Концертная         деятельность",4,50,20,20,2,30]
[{"$nulls":14},1,10,6,"Тестирование",1,10,6,null,1,10]
[{"$nulls":6},2,30,8,"Прослушивание,           концертное выступление",{"$nulls":8},2,30,8,8]
[{"$nulls":10},1,12,6,"Самостоятелҗная работа, тестирование",{"$nulls":4},1,12,6]
[{"$nulls":6},3,45,12,null,1,12,6,{"$nulls":5},4,57,18,null,2,27]
[{"$nulls":14},1,10,6,"Отчетный концертный номер",1,10,6]
[{"$nulls":6},2,30,8,"Открытое занятие в форме показательных выступлений",{"$nulls":8},2,30,8]
[{"$nulls":6},2,30,8,"тестирование",{"$nulls":8},2,30,8,null,2,30]
[{"$nulls":10},1,12,6,"участие в отчетном концерте",2,20,12,"участие в отчетном концерте",3,32,18,18,3,32]
[{"$nulls":6},1,15,4,"Педагогическое наблюдение , показ",{"$nulls":8},1,15,4]
[{"$nulls":6},2,30,8,"Практическая работа",{"$nulls":8},2,30,8]
[{"$nulls":14},1,10,6,"Итоговый показ",1,10,6]
[{"$nulls":6},{"$f":"SUM(G771:G783)","v":15},{"$f":"SUM(H771:H783)","v":225},{"$f":"SUM(I771:I783)","v":60},null,{"$f":"SUM(K771:K783)","v":3},{"$f":"SUM(L771:L783)","v":36},{"$f":"SUM(M771:M783)","v":18},null,{"$f":"SUM(O771:O783)","v":7},{"$f":"SUM(P771:P783)","v":70},{"$f":"SUM(Q771:Q783)","v":42},null,{"$f":"SUM(S771:S783)","v":25},331,120,46,10,129]
[]
[]
[{"$nulls":6},1,15,4]
[{"$nulls":6},2,30,8]
[]
[{"$nulls":6},2,30,8]
[]
[{"$nulls":6},3,45,12]
[]
[{"$nulls":6},2,30,8]
[{"$nulls":6},2,30,8]
[]
[{"$nulls":6},1,15,4]
[{"$nulls":6},2,30,8]
[{"$nulls":6},{"$f":"SUM(G787:G798)","v":15},{"$f":"SUM(H787:H798)","v":225},{"$f":"SUM(I787:I798)","v":60}]

{"sheet":"Лист4","index":3,"n_rows":127,"n_cols":20,"rows_kept":127}
[]
[]
[]
[null,null,{"$f":"SUM(#REF!)","v":{"$error":"#REF!"}},{"$f":"SUM(#REF!)","v":{"$error":"#REF!"}},{"$f":"SUM(#REF!)","v":{"$error":"#REF!"}},null,{"$f":"SUM(#REF!)","v":{"$error":"#REF!"}},{"$f":"SUM(#REF!)","v":{"$error":"#REF!"}},{"$f":"SUM(#REF!)","v":{"$error":"#REF!"}},null,{"$f":"SUM(#REF!)","v":{"$error":"#REF!"}},{"$f":"SUM(#REF!)","v":{"$error":"#REF!"}},{"$f":"SUM(#REF!)","v":{"$error":"#REF!"}},null,{"$f":"SUM(#REF!)","v":{"$error":"#REF!"}},{"$f":"SUM(#REF!)","v":{"$error":"#REF!"}},{"$f":"SUM(#REF!)","v":{"$error":"#REF!"}}]
{"$rows_empty":10}
[null,null,{"$f":"SUM(C3:C14)","v":{"$error":"#REF!"}},{"$f":"SUM(D3:D14)","v":{"$error":"#REF!"}},{"$f":"SUM(E3:E14)","v":{"$error":"#REF!"}},null,{"$f":"SUM(G3:G14)","v":{"$error":"#REF!"}},{"$f":"SUM(H3:H14)","v":{"$error":"#REF!"}},{"$f":"SUM(I3:I14)","v":{"$error":"#REF!"}},null,{"$f":"SUM(K3:K14)","v":{"$error":"#REF!"}},{"$f":"SUM(L3:L14)","v":{"$error":"#REF!"}},{"$f":"SUM(M3:M14)","v":{"$error":"#REF!"}},null,{"$f":"SUM(O3:O14)","v":{"$error":"#REF!"}},{"$f":"SUM(P3:P14)","v":{"$error":"#REF!"}},{"$f":"SUM(Q3:Q14)","v":{"$error":"#REF!"}}]
[]
[]
[]
[]
[]
[{"$f":"SUM(A9:A20)","v":0},{"$f":"SUM(B9:B20)","v":0},{"$f":"SUM(C9:C20)","v":{"$error":"#REF!"}},null,{"$f":"SUM(E9:E20)","v":{"$error":"#REF!"}},{"$f":"SUM(F9:F20)","v":0},{"$f":"SUM(G9:G20)","v":{"$error":"#REF!"}},null,{"$f":"SUM(I9:I20)","v":{"$error":"#REF!"}},{"$f":"SUM(J9:J20)","v":0},{"$f":"SUM(K9:K20)","v":{"$error":"#REF!"}},null,{"$f":"SUM(M9:M20)","v":{"$error":"#REF!"}},{"$f":"SUM(N9:N20)","v":0},{"$f":"SUM(O9:O20)","v":{"$error":"#REF!"}}]
[]
[]
[]
[]
[{"$nulls":4},10,150,40,2,24,12,9,90,54,21,264,106]
[{"$nulls":4},38,570,152,22,264,132,25,250,150,85,1084,434]
[{"$nulls":4},7,105,28,6,72,36,2,20,12,15,197,76]
[{"$nulls":4},4,60,16,2,24,12,{"$nulls":3},6,84,28]
[{"$nulls":4},5,75,20,1,12,6,1,10,6,7,97,32]
[{"$nulls":4},5,75,20,5,60,30,7,70,42,17,205,92]
[{"$nulls":4},{"$f":"SUM(E26:E31)","v":69},1035,276,38,456,228,44,440,264,151,1931,768]
[]
[]
[null,null,4,60,16,"Творческая работа ",1,12,6,"Творческая работа ",4,40,24,"Творческая работа ",9,112,46]
[{"$nulls":6},2,24,12,"Творческая работа ",{"$nulls":4},2,24,12]
[null,null,4,60,16,"Творческая работа ",{"$nulls":8},4,60,16]
[null,null,1,15,4,"защита реферата",{"$nulls":8},1,15,4]
[null,null,1,15,4,"Творческая работа ",{"$nulls":8},1,15,4]
[null,null,2,30,8,"Творческая работа ",1,12,6,"Творческая работа ",1,10,6,"Творческая работа ",4,52,20]
[null,null,{"$f":"SUM(C35:C40)","v":12},{"$f":"SUM(D35:D40)","v":180},{"$f":"SUM(E35:E40)","v":48},null,{"$f":"SUM(G35:G40)","v":4},{"$f":"SUM(H35:H40)","v":48},{"$f":"SUM(I35:I40)","v":24},null,{"$f":"SUM(K35:K40)","v":5},{"$f":"SUM(L35:L40)","v":50},{"$f":"SUM(M35:M40)","v":30},null,{"$f":"SUM(O35:O40)","v":21},{"$f":"SUM(P35:P40)","v":278},{"$f":"SUM(Q35:Q40)","v":102}]
{"$rows_empty":8}
[null,null,1,15,4,"Тестирование",2,24,12,"творческая работа",2,20,12," Итоговая выстовка",5,59,28]
[{"$nulls":6},1,12,6," Итоговая выстовка",{"$nulls":4},1,12,6]
[null,null,2,30,8,{"$nulls":9},2,30,8]
[{"$nulls":10},1,10,6,"Тестирование",1,10,6]
[null,null,{"$f":"SUM(C50:C53)","v":3},{"$f":"SUM(D50:D53)","v":45},{"$f":"SUM(E50:E53)","v":12},null,{"$f":"SUM(G50:G53)","v":3},{"$f":"SUM(H50:H53)","v":36},{"$f":"SUM(I50:I53)","v":18},null,{"$f":"SUM(K50:K53)","v":3},{"$f":"SUM(L50:L53)","v":30},{"$f":"SUM(M50:M53)","v":18},null,{"$f":"SUM(O50:O53)","v":9},{"$f":"SUM(P50:P53)","v":111},{"$f":"SUM(Q50:Q53)","v":48}]
{"$rows_empty":8}
[{"$nulls":5},1,15,4,"защита реферата"]
[null,1,15,4,"защита реферата"]
[{"$nulls":9},1,10,6,"Защита проекта",1,10,6]
[null,{"$f":"SUM(B63:B65)","v":1},{"$f":"SUM(C63:C65)","v":15},{"$f":"SUM(D63:D65)","v":4},null,{"$f":"SUM(F63:F65)","v":1},{"$f":"SUM(G63:G65)","v":15},{"$f":"SUM(H63:H65)","v":4},null,{"$f":"SUM(J63:J65)","v":1},{"$f":"SUM(K63:K65)","v":10},{"$f":"SUM(L63:L65)","v":6},null,{"$f":"SUM(N63:N65)","v":1},{"$f":"SUM(O63:O65)","v":10},{"$f":"SUM(P63:P65)","v":6}]
[]
[]
[]
[null,null,"Модифицированная, \n«Школа Кота да Винчи»,\n11-13 лет, 2 года\n",{"$nulls":4},1,12,4,"защита реферата",{"$nulls":4},1,12,6]
[null,null,"Модифицированная, \n«Уйла,  эзлә,тап»,\n12-16 лет, 1 год\n",1,15,4,"защита реферата",{"$nulls":8},1,15,4]
[null,null,"Модифицированная, \n«Яшь эзләнүчеләр»,\n12-16 лет, 3 года\n",{"$nulls":8},1,10,6,"Защита проекта",1,10,6]
[{"$nulls":3},{"$f":"SUM(D70:D72)","v":1},{"$f":"SUM(E70:E72)","v":15},{"$f":"SUM(F70:F72)","v":4},null,{"$f":"SUM(H70:H72)","v":1},{"$f":"SUM(I70:I72)","v":12},6,null,{"$f":"SUM(L70:L72)","v":1},{"$f":"SUM(M70:M72)","v":10},{"$f":"SUM(N70:N72)","v":6},null,{"$f":"SUM(P70:P72)","v":3},{"$f":"SUM(Q70:Q72)","v":37},{"$f":"SUM(R70:R72)","v":16}]
{"$rows_empty":31}
[null,{"$f":"SUM(B93:B104)","v":0},{"$f":"SUM(C93:C104)","v":0},{"$f":"SUM(D93:D104)","v":0},null,{"$f":"SUM(F93:F104)","v":0},{"$f":"SUM(G93:G104)","v":0},{"$f":"SUM(H93:H104)","v":0},null,{"$f":"SUM(J93:J104)","v":0},{"$f":"SUM(K93:K104)","v":0},{"$f":"SUM(L93:L104)","v":0},null,{"$f":"SUM(N93:N104)","v":0},{"$f":"SUM(O93:O104)","v":0},{"$f":"SUM(P93:P104)","v":0},null,{"$f":"SUM(R93:R104)","v":0},{"$f":"SUM(S93:S104)","v":0}]
[]
[]
[]
[]
[]
[]
[null,"Адаптированная,\n «Лепка»,                                                                        7-14 лет, 4 года\n",{"$nulls":8},1,10,6,"Практическая работа",1,10,6,null,1,10]
[null,"Модифицированная,\n«Художники»,                                         7-11 лет 4 года\n",1,15,4,"Отчетная выставка",4,48,24,"отчетная выставка",{"$nulls":4},5,63,28]
[null,"Модифицированная,\n«Веселая кисточка»,\n7-12 лет, 3 года\n",2,30,8,"выставка",{"$nulls":4},3,30,18,"Итоговая выставка",5,60,26]
[null,"Модифицированная,\n«ИЗО»,\n8-14 лет, 2 года\n",{"$nulls":4},1,12,6,"Итоговая выставка",2,20,12,null,3,32,18,null,3,32]
[null,"Авторская,\n«Основы дизайна»,\n7-13 лет, 4 года \n",{"$nulls":4},2,24,12,"Итоговая выставка",{"$nulls":4},2,24,12,null,2,24]
[null,"Авторская, «Бисероплетение»,\n 7-15 лет, 3 года \n",{"$nulls":4},1,12,6,"выставка творческих работ",1,10,6,"Тестирование",2,22,12,null,2,22]
[null,"Авторская, \n«Цветоделие»,\n7-15 лет, 3 года\n",2,30,8,"Итоговая выставка",{"$nulls":8},2,30,8]
[null,"Модифицированная,\n«Юный дизайнер»,                                                         7-14 лет,4  года\n",2,30,8,"мини-выставка",{"$nulls":4},2,20,12,"Индивидуальная               творческая работа",4,50,20]
[null,"Авторская,\n«Волшебная кисточка»,\n7-15 лет, 3 года\n",{"$nulls":4},1,12,6,"мини-выставка",{"$nulls":4},1,12,6]
[null,"Модифицированная,\n«Калейдоскоп\nфантазий»,                                               10-15 лет, 3 года\n",{"$nulls":8},1,10,6,"итоговая творческая работа, выставка",1,10,6]
[null,"Модифицированная, \n«Кудесники»,                           7-10 лет, 2 года\n",1,15,4,"Итоговая выставка",{"$nulls":8},1,15,4]
[null,"Модифицированная, \n«Волшебная мастерская»,                                                      7-11 лет,  4 года\n",{"$nulls":8},1,10,6,"Итоговая выставка",1,10,6]
[null,"Модифицированная, \n«Art-студия»,                                         7-14 лет,4 года\n",1,15,4,"тестирование",{"$nulls":8},1,15,4]
[null,"Модифицированная, \n«Разноцветная палитра»,            7-11 лет,1год\n",1,15,4,"тестирование",{"$nulls":8},1,15,4]
[null,"Модифицированная, \n«Юные да Винчи», 7-11 лет, 1 год\n",1,15,4,"Тестирование         выставка ",{"$nulls":8},1,15,4]
[null,null,{"$f":"SUM(C112:C126)","v":11},{"$f":"SUM(D112:D126)","v":165},{"$f":"SUM(E112:E126)","v":44},null,{"$f":"SUM(G112:G126)","v":9},{"$f":"SUM(H112:H126)","v":108},{"$f":"SUM(I112:I126)","v":54},null,{"$f":"SUM(K112:K126)","v":11},{"$f":"SUM(L112:L126)","v":110},{"$f":"SUM(M112:M126)","v":66},null,{"$f":"SUM(O112:O126)","v":31},{"$f":"SUM(P112:P126)","v":383},{"$f":"SUM(Q112:Q126)","v":164},null,{"$f":"SUM(S112:S126)","v":8},{"$f":"SUM(T112:T126)","v":88}]

{"sheet":"Лист1","index":4,"n_rows":492,"n_cols":20,"rows_kept":492}
[]
[]
[null,null,1,15,4,null,1,12,null,3,30,18,null,2,30,8]
[{"$nulls":9},1,10,6,null,1,15,4]
[null,null,6,90,24,null,4,48,null,7,70,42,null,2,30,8]
[null,null,2,30,8,{"$nulls":8},1,15,4]
[{"$nulls":6},2,24,{"$nulls":5},{"$f":"SUM(N3:N6)","v":6},{"$f":"SUM(O3:O6)","v":90},{"$f":"SUM(P3:P6)","v":24}]
[null,null,2,30,8]
[null,null,2,30,8,null,{"$f":"SUM(G3:G8)","v":7},{"$f":"SUM(H3:H8)","v":84},null,{"$f":"SUM(J3:J8)","v":11},{"$f":"SUM(K3:K8)","v":110},{"$f":"SUM(L3:L8)","v":66}]
[null,null,{"$f":"SUM(C3:C9)","v":13},{"$f":"SUM(D3:D9)","v":195},{"$f":"SUM(E3:E9)","v":52}]
[]
[]
[null,"ИТОГО:",{"$f":"SUM(C3:C12)","v":26},{"$f":"SUM(D3:D12)","v":390},{"$f":"SUM(E3:E12)","v":104},null,{"$f":"SUM(G3:G10)","v":14},{"$f":"SUM(H3:H10)","v":168},{"$f":"SUM(I3:I10)","v":0},null,5,50,30,null,{"$f":"SUM(O3:O12)","v":180},{"$f":"SUM(P3:P12)","v":48},{"$f":"SUM(Q3:Q12)","v":0},null,{"$f":"SUM(S3:S12)","v":0},{"$f":"SUM(T3:T12)","v":0}]
{"$rows_empty":7}
[null,1,15,4,null,1,12,6,null,null,3,30,18]
[{"$nulls":10},1,10,6]
[null,6,90,24,null,4,48,24,null,null,7,70,42]
[null,2,30,8]
[{"$nulls":5},2,24,12]
[null,2,30,8]
[null,2,30,8,null,{"$f":"SUM(F21:F26)","v":7},{"$f":"SUM(G21:G26)","v":84},{"$f":"SUM(H21:H26)","v":42},null,null,{"$f":"SUM(K21:K26)","v":11},{"$f":"SUM(L21:L26)","v":110},{"$f":"SUM(M21:M26)","v":66}]
[null,{"$f":"SUM(B21:B27)","v":13},{"$f":"SUM(C21:C27)","v":195},{"$f":"SUM(D21:D27)","v":52}]
[]
[]
[]
[{"$nulls":10},1,10,6]
[null,5,75,20]
[{"$nulls":5},3,36,18,null,null,1,10,6]
[null,1,15,4]
[{"$nulls":5},2,24,12,null,null,1,10,6]
[{"$nulls":5},1,12,6]
[null,1,15,4]
[{"$nulls":5},2,24,12,null,null,1,10,6]
[null,2,30,8,{"$nulls":6},2,20,12]
[null,1,15,4]
[null,1,15,4]
[{"$nulls":5},1,12,6]
[null,1,15,4,null,4,48,24]
[null,1,15,4]
[null,{"$f":"SUM(B33:B45)","v":13},{"$f":"SUM(C33:C45)","v":195},{"$f":"SUM(D33:D45)","v":52},null,3,36,18,null,null,{"$f":"SUM(K32:K45)","v":6},{"$f":"SUM(L32:L45)","v":60},{"$f":"SUM(M32:M45)","v":36}]
[{"$nulls":5},{"$f":"SUM(F34:F46)","v":16},{"$f":"SUM(G34:G46)","v":192},{"$f":"SUM(H34:H46)","v":96}]
[]
[]
[]
[]
[null,1,15,4,null,1,12,6,null,3,30,18]
[null,1,15,4,null,1,12,6,null,3,30,18]
[null,2,30,8,null,1,12,6]
[]
[{"$nulls":5},2,24,12]
[null,2,30,8,{"$nulls":5},2,20,12]
[{"$nulls":9},1,10,6]
[{"$nulls":9},1,10,6]
[{"$nulls":5},1,12,6,null,1,10,6]
[null,1,15,4]
[{"$nulls":5},1,12,6]
[null,6,90,24]
[null,1,15,4]
[null,2,30,8]
[null,{"$f":"SUM(B52:B65)","v":16},{"$f":"SUM(C52:C65)","v":240},{"$f":"SUM(D52:D65)","v":64},null,{"$f":"SUM(F52:F65)","v":7},{"$f":"SUM(G52:G65)","v":84},{"$f":"SUM(H52:H65)","v":42},null,{"$f":"SUM(J52:J65)","v":11},{"$f":"SUM(K52:K65)","v":110},{"$f":"SUM(L52:L65)","v":66}]
[]
[]
[]
[]
[null,11,165,44,null,5,60,30,null,5,50,30,null,21,275,104]
[null,1,15,4,null,2,24,12,{"$nulls":5},3,39,16]
[null,13,195,52,null,7,84,42,null,11,110,66,null,31,389,160]
[null,6,90,24,null,3,36,18,null,3,30,18,null,12,156,60]
[null,13,195,52,null,16,192,96,null,6,60,36,null,35,484,184]
[null,1,15,4,null,1,12,6,{"$nulls":5},2,27,10]
[null,16,240,64,null,7,84,42,null,11,110,66,null,34,434,172]
[null,3,45,12,null,4,48,24,null,2,20,12,null,9,113,48]
[{"$nulls":5},4,48,24,null,7,70,42,null,11,118,66]
[null,{"$f":"SUM(B71:B79)","v":64},{"$f":"SUM(C71:C79)","v":960},{"$f":"SUM(D71:D79)","v":256},null,{"$f":"SUM(F71:F79)","v":49},{"$f":"SUM(G71:G79)","v":588},{"$f":"SUM(H71:H79)","v":294},null,{"$f":"SUM(J71:J79)","v":45},{"$f":"SUM(K71:K79)","v":450},{"$f":"SUM(L71:L79)","v":270},null,{"$f":"SUM(N71:N79)","v":158},{"$f":"SUM(O71:O79)","v":2035},{"$f":"SUM(P71:P79)","v":820}]
[]
[]
[null,11,165,44,null,5,60,30,null,5,50,30,null,21,275]
[null,1,15,4,null,2,24,12,{"$nulls":5},3,39]
[null,13,195,52,null,7,84,42,null,11,110,66,null,31,389]
[null,6,90,24,null,3,36,18,null,3,30,18,null,12,156]
[null,13,195,52,null,16,192,96,null,6,60,36,null,35,484]
[null,1,15,4,null,1,12,6,{"$nulls":5},2,27]
[null,16,240,64,null,7,84,42,null,14,140,84,null,34,434]
[null,3,45,12,null,4,48,24,null,2,20,12,null,9,113]
[{"$nulls":5},4,48,24,null,7,70,42,null,11,118]
[null,{"$f":"SUM(B83:B91)","v":64},{"$f":"SUM(C83:C91)","v":960},{"$f":"SUM(D83:D91)","v":256},null,{"$f":"SUM(F83:F91)","v":49},{"$f":"SUM(G83:G91)","v":588},{"$f":"SUM(H83:H91)","v":294},null,{"$f":"SUM(J83:J91)","v":48},{"$f":"SUM(K83:K91)","v":480},{"$f":"SUM(L83:L91)","v":288},null,{"$f":"SUM(N83:N91)","v":158},{"$f":"SUM(O83:O91)","v":2035}]
[]
[]
[null,11,165,44,null,5,60,30,null,5,50,30,null,21,275,104]
[null,1,15,4,null,2,24,12,{"$nulls":5},3,39,16]
[null,13,195,52,null,7,84,42,null,11,110,66,null,31,389,160]
[null,6,90,24,null,3,36,18,null,3,30,18,null,12,156,60]
[null,13,195,52,null,16,192,96,null,6,60,36,null,35,484,184]
[null,1,15,4,null,1,12,6,{"$nulls":5},2,27,10]
[null,16,240,64,null,7,84,42,null,14,140,84,null,37,464,190]
[null,3,45,12,null,4,48,24,null,2,20,12,null,9,113,48]
[{"$nulls":5},4,48,24,null,7,70,42,null,11,118,66]
[null,{"$f":"SUM(B95:B103)","v":64},{"$f":"SUM(C95:C103)","v":960},{"$f":"SUM(D95:D103)","v":256},null,{"$f":"SUM(F95:F103)","v":49},{"$f":"SUM(G95:G103)","v":588},{"$f":"SUM(H95:H103)","v":294},null,{"$f":"SUM(J95:J103)","v":48},{"$f":"SUM(K95:K103)","v":480},{"$f":"SUM(L95:L103)","v":288},null,{"$f":"SUM(N95:N103)","v":161},{"$f":"SUM(O95:O103)","v":2065},{"$f":"SUM(P95:P103)","v":838}]
[]
[]
[]
[null,11,165,44,null,5,60,30,null,5,50,30,null,21,275,104]
[null,1,15,4,null,2,24,12,{"$nulls":5},3,39,16]
[null,13,195,52,null,7,84,42,null,11,110,66,null,31,389,160]
[null,6,90,24,null,3,36,18,null,3,30,18,null,12,156,60]
[null,12,180,48,null,16,192,96,null,6,60,36,null,34,432,180]
[null,3,45,12,null,1,12,6,{"$nulls":5},4,57,18]
[null,16,240,64,null,7,84,42,null,14,140,84,null,37,464,190]
[null,3,45,12,null,4,48,24,null,2,20,12,null,9,113,48]
[{"$nulls":5},4,48,24,null,7,70,42,null,11,118,66]
[null,{"$f":"SUM(B108:B116)","v":65},{"$f":"SUM(C108:C116)","v":975},{"$f":"SUM(D108:D116)","v":260},null,{"$f":"SUM(F108:F116)","v":49},{"$f":"SUM(G108:G116)","v":588},{"$f":"SUM(H108:H116)","v":294},null,{"$f":"SUM(J108:J116)","v":48},{"$f":"SUM(K108:K116)","v":480},{"$f":"SUM(L108:L116)","v":288},null,{"$f":"SUM(N108:N116)","v":162},{"$f":"SUM(O108:O116)","v":2043},{"$f":"SUM(P108:P116)","v":842}]
[]
[]
[]
[]
[null,5,75,20]
[]
[null,1,15,4]
[]
[]
[null,1,15,4]
[]
[null,2,30,8]
[null,1,15,4]
[null,1,15,4]
[]
[null,1,15,4]
[null,{"$f":"SUM(B122:B133)","v":12},{"$f":"SUM(C122:C133)","v":180},{"$f":"SUM(D122:D133)","v":48}]
[]
[]
[]
[null,11,165,44,null,5,60,30,null,5,50,30,null,21,275,104]
[null,1,15,4,null,2,24,12,{"$nulls":5},3,39,16]
[null,13,195,52,null,7,84,42,null,11,110,66,null,31,389,160]
[null,6,90,24,null,3,36,18,null,3,30,18,null,12,156,60]
[{"$nulls":9},1,10,6,null,1,10,6]
[null,12,180,48,null,16,192,96,null,6,60,36,null,34,432,180]
[null,3,45,12,null,1,12,6,{"$nulls":5},4,57,18]
[null,16,240,64,null,7,84,42,null,14,140,84,null,37,464,190]
[null,3,45,12,null,4,48,24,null,2,20,12,null,9,113,48]
[{"$nulls":5},4,48,24,null,7,70,42,null,11,118,66]
[null,{"$f":"SUM(B138:B147)","v":65},{"$f":"SUM(C138:C147)","v":975},{"$f":"SUM(D138:D147)","v":260},null,{"$f":"SUM(F138:F147)","v":49},{"$f":"SUM(G138:G147)","v":588},{"$f":"SUM(H138:H147)","v":294},null,{"$f":"SUM(J138:J147)","v":49},{"$f":"SUM(K138:K147)","v":490},{"$f":"SUM(L138:L147)","v":294},null,{"$f":"SUM(N138:N147)","v":163},{"$f":"SUM(O138:O147)","v":2053},{"$f":"SUM(P138:P147)","v":848}]
[]
[]
[]
[]
[null,11,165,44,null,5,60,30,null,5,50,30,null,21,275,104]
[null,41,615,164,null,30,360,180,null,31,310,186,null,102,1285,530]
[null,7,105,28,null,5,60,30,null,3,30,18,null,15,195,76]
[null,3,45,12,null,1,12,6,null,1,10,6,null,5,67,24]
[null,3,45,12,null,4,48,24,null,2,20,12,null,9,113,48]
[{"$nulls":5},4,48,24,null,7,70,42,null,11,118,66]
[null,{"$f":"SUM(B153:B158)","v":65},{"$f":"SUM(C153:C158)","v":975},{"$f":"SUM(D153:D158)","v":260},null,{"$f":"SUM(F153:F158)","v":49},{"$f":"SUM(G153:G158)","v":588},{"$f":"SUM(H153:H158)","v":294},null,{"$f":"SUM(J153:J158)","v":49},{"$f":"SUM(K153:K158)","v":490},{"$f":"SUM(L153:L158)","v":294},null,{"$f":"SUM(N153:N158)","v":163},{"$f":"SUM(O153:O158)","v":2053},{"$f":"SUM(P153:P158)","v":848}]
[]
[]
[]
[null,11,165,44,null,5,60,30,null,5,50,30,null,21,275,104]
[null,41,615,164,null,30,360,180,null,31,310,186,null,99,1285,530]
[null,7,105,28,null,5,60,30,null,3,30,18,null,15,195,76]
[null,3,45,12,null,1,12,6,{"$nulls":5},4,57,18]
[null,3,45,12,null,4,48,24,null,2,20,12,null,9,113,48]
[{"$nulls":5},4,48,24,null,7,70,42,null,11,118,66]
[null,{"$f":"SUM(B163:B168)","v":65},{"$f":"SUM(C163:C168)","v":975},{"$f":"SUM(D163:D168)","v":260},null,{"$f":"SUM(F163:F168)","v":49},{"$f":"SUM(G163:G168)","v":588},{"$f":"SUM(H163:H168)","v":294},null,{"$f":"SUM(J163:J168)","v":48},{"$f":"SUM(K163:K168)","v":480},{"$f":"SUM(L163:L168)","v":288},null,{"$f":"SUM(N163:N168)","v":159},{"$f":"SUM(O163:O168)","v":2043},{"$f":"SUM(P163:P168)","v":842}]
[]
[]
[null,11,165,44,null,5,60,30,null,5,50,30,null,21,275,104]
[null,41,615,164,null,30,360,180,null,31,310,186,null,99,1285,530]
[null,7,105,28,null,5,60,30,null,3,30,18,null,15,195,76]
[null,3,45,12,null,4,48,24,null,2,20,12,null,9,113,48]
[{"$nulls":5},4,48,24,null,7,70,42,null,11,118,66]
[null,3,45,12,null,1,12,6,null,1,10,6,null,5,67,24]
[null,{"$f":"SUM(B172:B177)","v":65},{"$f":"SUM(C172:C177)","v":975},{"$f":"SUM(D172:D177)","v":260},null,{"$f":"SUM(F172:F177)","v":49},{"$f":"SUM(G172:G177)","v":588},{"$f":"SUM(H172:H177)","v":294},null,{"$f":"SUM(J172:J177)","v":49},{"$f":"SUM(K172:K177)","v":490},{"$f":"SUM(L172:L177)","v":294},null,{"$f":"SUM(N172:N177)","v":160},{"$f":"SUM(O172:O177)","v":2053},{"$f":"SUM(P172:P177)","v":848}]
[]
[]
[]
[]
[]
[null,11,165,44,null,5,60,30,null,5,50,30,null,21,275,104]
[null,42,630,168,null,31,372,186,null,31,310,186,null,102,1282,532]
[null,7,105,28,null,5,60,30,null,3,30,18,null,15,195,76]
[null,3,45,12,null,1,12,6,null,1,10,6,null,5,67,24]
[null,3,45,12,null,4,48,24,null,2,20,12,null,9,113,48]
[{"$nulls":5},4,48,24,null,7,70,42,null,11,118,66]
[null,{"$f":"SUM(B184:B189)","v":66},{"$f":"SUM(C184:C189)","v":990},{"$f":"SUM(D184:D189)","v":264},null,{"$f":"SUM(F184:F189)","v":50},{"$f":"SUM(G184:G189)","v":600},{"$f":"SUM(H184:H189)","v":300},null,{"$f":"SUM(J184:J189)","v":49},{"$f":"SUM(K184:K189)","v":490},{"$f":"SUM(L184:L189)","v":294},null,{"$f":"SUM(N184:N189)","v":163},{"$f":"SUM(O184:O189)","v":2050},{"$f":"SUM(P184:P189)","v":850}]
[]
[]
[]
[{"$nulls":3},28]
[]
[]
[{"$nulls":3},8]
[]
[]
[]
[{"$nulls":7},28]
[]
[]
[{"$nulls":7},8]
{"$rows_empty":8}
[{"$nulls":10},36]
[]
[{"$nulls":3},28]
[{"$nulls":3},28,{"$nulls":6},8]
[]
[{"$nulls":3},12]
[{"$nulls":3},20]
[{"$nulls":3},6]
[]
[{"$nulls":7},28]
[{"$nulls":7},22,{"$nulls":5},36]
[{"$nulls":3},24]
[{"$nulls":7},12]
[{"$nulls":3},{"$f":"SUM(D194:D225)","v":154},{"$nulls":3},20,{"$nulls":5},8]
[{"$nulls":7},6]
[]
[]
[]
[{"$nulls":7},24]
[]
[]
[{"$nulls":7},{"$f":"SUM(H201:H233)","v":148},null,null,28]
[{"$nulls":10},28]
[]
[{"$nulls":10},12]
[{"$nulls":4},36,{"$nulls":5},20]
[{"$nulls":10},6]
[]
[{"$nulls":4},8]
[]
[{"$nulls":10},24]
[{"$nulls":13},28]
[{"$nulls":13},26]
[{"$nulls":10},{"$f":"SUM(K213:K245)","v":162}]
[{"$nulls":13},12]
[{"$nulls":13},20]
[{"$nulls":13},6]
[]
[]
[]
[{"$nulls":13},24]
[]
[{"$nulls":13},{"$f":"SUM(N223:N254)","v":160}]
[]
[]
[]
[{"$nulls":4},28]
[{"$nulls":4},26]
[]
[{"$nulls":4},12]
[{"$nulls":4},20]
[{"$nulls":4},6]
[]
[]
[]
[{"$nulls":4},24]
[{"$nulls":4},{"$f":"SUM(E238:E268)","v":160}]
[]
[]
[]
[]
[]
[]
[null,11,165,44,null,5,60,30,null,5,50,30,null,21,275,104]
[null,45,675,180,null,31,372,186,null,31,310,186,null,105,1327,544]
[null,7,105,28,null,5,60,30,null,3,30,18,null,15,195,76]
[null,3,45,12,null,1,12,6,null,1,10,6,null,5,67,24]
[null,3,44,12,null,4,48,24,null,2,20,12,null,9,112,48]
[{"$nulls":5},4,48,24,null,7,70,42,null,11,118,66]
[null,{"$f":"SUM(B276:B281)","v":69},{"$f":"SUM(C276:C281)","v":1034},{"$f":"SUM(D276:D281)","v":276},null,{"$f":"SUM(F276:F281)","v":50},{"$f":"SUM(G276:G281)","v":600},{"$f":"SUM(H276:H281)","v":300},null,{"$f":"SUM(J276:J281)","v":49},{"$f":"SUM(K276:K281)","v":490},{"$f":"SUM(L276:L281)","v":294},null,{"$f":"SUM(N276:N281)","v":166},{"$f":"SUM(O276:O281)","v":2094},{"$f":"SUM(P276:P281)","v":862}]
[]
[]
[null,null,7,87,36,null,87]
[null,null,1,10,6,null,10]
[null,null,17,205,92,null,205]
[null,null,2,30,8,null,30]
[null,null,2,24,12,null,24]
[null,null,2,30,8,null,30]
[null,null,2,30,8,null,30]
[null,null,1,10,6,null,10]
[null,null,6,90,24,null,90]
[null,null,4,46,24,null,46]
[null,null,1,15,4,null,15]
[null,null,3,34,18,null,34]
[null,null,1,12,6,null,12]
[null,null,1,15,4,null,15]
[null,null,3,34,18,null,34]
[null,null,4,50,20,null,50]
[null,null,1,15,4,null,15]
[null,null,1,15,4,null,15]
[null,null,1,12,6,null,12]
[null,null,5,63,28,null,63]
[null,null,3,36,18,null,36]
[null,null,5,57,28,null,57]
[null,null,5,57,28,null,57]
[null,null,3,42,14,null,42]
[null,null,2,24,12,null,24]
[null,null,4,50,20,null,50]
[null,null,1,10,6,null,10]
[null,null,1,10,6,null,10]
[null,null,3,37,16,null,37]
[null,null,1,12,6,null,12]
[null,null,6,90,24,null,90]
[null,null,1,15,4,null,15]
[null,null,2,30,8,null,30]
[]
[null,null,3,30,18,null,30]
[null,null,{"$f":"SUM(C285:C319)","v":105},{"$f":"SUM(D285:D319)","v":1327},{"$f":"SUM(E285:E319)","v":544},null,{"$f":"SUM(G285:G319)","v":1327}]
[]
[]
[]
[]
[]
[null,null,11,165,44,null,5,60,30,null,5,50,30,null,21,275,104]
[null,null,45,675,180,null,31,372,186,null,31,310,186,null,107,1357,552]
[null,null,7,105,28,null,5,60,30,null,3,30,18,null,15,195,76]
[null,null,3,45,12,null,1,12,6,null,1,10,6,null,5,67,24]
[null,null,3,44,12,null,4,48,24,null,2,20,12,null,9,112,48]
[{"$nulls":6},4,48,24,null,7,70,42,null,11,118,66]
[null,null,{"$f":"SUM(C326:C331)","v":69},{"$f":"SUM(D326:D331)","v":1034},{"$f":"SUM(E326:E331)","v":276},null,{"$f":"SUM(G326:G331)","v":50},{"$f":"SUM(H326:H331)","v":600},{"$f":"SUM(I326:I331)","v":300},null,{"$f":"SUM(K326:K331)","v":49},{"$f":"SUM(L326:L331)","v":490},{"$f":"SUM(M326:M331)","v":294},null,{"$f":"SUM(O326:O331)","v":168},{"$f":"SUM(P326:P331)","v":2124},{"$f":"SUM(Q326:Q331)","v":870}]
[]
[]
[null,null,5,57]
[]
[]
[]
[]
[]
[]
[null,null,1,10]
[]
[]
[null,null,1,15]
[null,null,3,34,null,null,2,27,null,null,1,10]
[null,null,1,12,null,null,1,14,null,null,6,90]
[null,null,1,15,null,null,2,22,null,null,4,46]
[{"$nulls":6},{"$f":"SUM(G346:G348)","v":5},{"$f":"SUM(H346:H348)","v":63},null,null,1,15]
[{"$nulls":10},3,34]
[{"$nulls":10},1,12]
[{"$nulls":6},5,57,null,null,1,15]
[{"$nulls":6},1,10,null,null,3,34]
[null,null,2,27,null,null,17,205,null,null,4,50]
[{"$nulls":6},2,30,null,null,1,15]
[null,null,5,57,null,null,2,24,null,null,1,15]
[{"$nulls":6},2,30,null,null,1,12]
[{"$nulls":6},2,30,null,null,5,63]
[null,null,2,24,null,null,{"$f":"SUM(G352:G358)","v":31},{"$f":"SUM(H352:H358)","v":386},null,null,3,36]
[null,null,2,20,{"$nulls":6},{"$f":"SUM(K346:K359)","v":35},{"$f":"SUM(L346:L359)","v":447}]
[null,null,1,10]
[null,null,1,6]
[{"$nulls":6},31,386]
[{"$nulls":6},1,10]
[null,null,6,90,null,null,12,156]
[{"$nulls":6},{"$f":"SUM(G363:G365)","v":44},{"$f":"SUM(H363:H365)","v":552},{"$nulls":4},41,524]
[{"$nulls":12},7,87]
[{"$nulls":12},{"$f":"SUM(M366:M367)","v":48},{"$f":"SUM(N366:N367)","v":611}]
[null,null,{"$f":"SUM(C335:C368)","v":31},{"$f":"SUM(D335:D368)","v":377},{"$nulls":4},35,447]
[{"$nulls":8},4,57]
[{"$nulls":8},{"$f":"SUM(I369:I370)","v":39},{"$f":"SUM(J369:J370)","v":504}]
[null,null,1,10]
[null,null,6,90]
[null,null,4,46,{"$nulls":9},28]
[null,null,1,15,{"$nulls":3},5,57]
[null,null,3,34,{"$nulls":3},5,57]
[null,null,1,12,{"$nulls":3},3,42,{"$nulls":4},8]
[null,null,1,15,{"$nulls":3},2,24]
[null,null,3,34,{"$nulls":3},4,50]
[null,null,4,50,{"$nulls":3},1,10]
[null,null,1,15,{"$nulls":3},1,10]
[null,null,1,15,{"$nulls":3},3,37]
[null,null,1,12,{"$nulls":3},1,12]
[null,null,5,63,{"$nulls":3},6,90]
[null,null,3,36,{"$nulls":3},3,45]
[null,null,{"$f":"SUM(C372:C385)","v":35},{"$f":"SUM(D372:D385)","v":447},{"$nulls":3},2,30]
[{"$nulls":7},2,30]
[{"$nulls":7},3,30]
[{"$nulls":7},{"$f":"SUM(H375:H388)","v":41},{"$f":"SUM(I375:I388)","v":524}]
[]
[]
[]
[]
[]
[{"$nulls":13},28]
[{"$nulls":13},28]
[]
[{"$nulls":13},6]
[{"$nulls":13},20]
[{"$nulls":3},5,57,{"$nulls":8},6]
[]
[{"$nulls":13},16]
[]
[{"$nulls":13},16]
[{"$nulls":13},4]
[]
[{"$nulls":3},1,10]
[{"$nulls":7},5,57,{"$nulls":4},{"$f":"SUM(N374:N407)","v":160}]
[]
[{"$nulls":3},1,15]
[{"$nulls":3},3,34]
[{"$nulls":3},1,12]
[{"$nulls":3},1,15]
[]
[{"$nulls":7},1,10]
[]
[]
[{"$nulls":7},1,15]
[{"$nulls":3},2,27,null,null,3,34]
[{"$nulls":7},1,12]
[{"$nulls":3},5,57,null,null,1,15]
[]
[]
[{"$nulls":3},2,24]
[{"$nulls":3},2,20]
[{"$nulls":3},1,10]
[{"$nulls":3},1,10,null,null,2,27]
[]
[{"$nulls":7},5,57]
[{"$nulls":3},6,90]
[{"$nulls":3},1,15]
[{"$nulls":7},2,24]
[{"$nulls":7},2,20]
[{"$nulls":3},{"$f":"SUM(D400:D433)","v":32},{"$f":"SUM(E400:E433)","v":396},null,null,1,10]
[{"$nulls":7},1,10]
[]
[]
[{"$nulls":7},6,90]
[]
[{"$nulls":7},1,15]
[]
[{"$nulls":7},{"$f":"SUM(H408:H441)","v":32},{"$f":"SUM(I408:I441)","v":396}]
[]
[]
[{"$nulls":4},"Модифицированная, \"Самоделкины\", 10-11 лет, 1 год ",1,15,4,"выставка",{"$nulls":8},1,15,4]
{"$rows_empty":16}
[{"$nulls":3},1,10]
[]
[]
[{"$nulls":3},3,32]
[{"$nulls":3},2,24]
[{"$nulls":3},2,22]
{"$rows_empty":10}
[{"$nulls":3},2,20]
[]
[{"$nulls":3},2,25]
[]
[]
[{"$nulls":3},3,45]
[]
[]
[{"$nulls":3},2,30]
[{"$nulls":3},2,30]
[{"$nulls":3},3,32]
[]
[]
[]
[{"$nulls":3},{"$f":"SUM(D462:D491)","v":22},{"$f":"SUM(E462:E491)","v":270}]

{"sheet":"Лист5","index":5,"n_rows":68,"n_cols":18,"rows_kept":68,"merged":[[4,2,4,3],[4,4,4,5],[4,6,4,7],[4,8,4,9],[4,10,4,11],[4,12,4,13],[11,1,11,2],[11,3,11,4],[11,5,11,6],[11,7,11,8],[11,9,11,10],[11,11,11,12],[15,1,15,2],[15,3,15,4],[15,5,15,6],[15,7,15,8],[15,9,15,10],[15,11,15,12],[16,1,16,2],[16,3,16,4],[16,5,16,6],[16,7,16,8],[16,9,16,10],[16,11,16,12],[17,1,17,2],[17,3,17,4],[17,5,17,6],[17,7,17,8],[17,9,17,10],[17,11,17,12],[18,1,18,2],[18,3,18,4],[18,5,18,6],[18,7,18,8],[18,9,18,10],[18,11,18,12],[19,1,19,2],[19,3,19,4],[19,5,19,6],[19,7,19,8],[19,9,19,10],[19,11,19,12],[20,1,20,2],[20,3,20,4],[20,5,20,6],[20,7,20,8],[20,9,20,10],[20,11,20,12],[21,1,21,2],[21,3,21,4],[21,9,21,10],[21,11,21,12],[22,9,22,10],[22,11,22,12],[23,1,23,2],[23,3,23,4],[24,1,24,2],[24,3,24,4],[24,5,24,6],[24,7,24,8],[25,1,25,2],[25,3,25,4],[25,5,25,6],[25,7,25,8],[26,1,26,2],[26,3,26,4],[26,5,26,6],[26,7,26,8],[26,9,26,10],[26,11,26,12],[29,1,29,2],[29,3,29,4],[29,5,29,6],[29,7,29,8],[29,9,29,10],[29,11,29,12],[30,1,30,2],[30,3,30,4],[30,5,30,6],[30,7,30,8],[31,1,31,2],[31,3,31,4],[32,1,32,2],[32,3,32,4],[33,1,33,2],[33,3,33,4],[33,5,33,6],[33,7,33,8],[33,9,33,10],[33,11,33,12],[34,1,34,2],[34,3,34,4],[34,5,34,6],[34,7,34,8],[34,9,34,10],[34,11,34,12],[35,1,35,2],[35,3,35,4],[35,5,35,6],[35,7,35,8],[35,9,35,10],[35,11,35,12],[36,1,36,2],[36,3,36,4],[36,5,36,6],[36,7,36,8],[36,9,36,10],[36,11,36,12],[37,1,37,2],[37,3,37,4],[37,5,37,6],[37,7,37,8],[37,9,37,10],[37,11,37,12],[38,1,38,2],[38,3,38,4],[38,5,38,6],[38,7,38,8],[38,9,38,10],[38,11,38,12],[39,1,39,2],[39,3,39,4],[39,5,39,6],[39,7,39,8],[39,9,39,10],[39,11,39,12],[40,1,40,2],[40,3,40,4],[40,5,40,6],[40,7,40,8],[40,9,40,10],[40,11,40,12],[41,1,41,2],[41,3,41,4],[41,5,41,6],[41,7,41,8],[41,9,41,10],[41,11,41,12],[42,1,42,2],[42,3,42,4],[42,5,42,6],[42,7,42,8],[42,9,42,10],[42,11,42,12],[43,1,43,2],[43,3,43,4],[43,5,43,6],[43,7,43,8],[43,9,43,10],[43,11,43,12],[44,1,44,2],[44,3,44,4],[44,5,44,6],[44,7,44,8],[44,9,44,10],[44,11,44,12],[45,1,45,2],[45,3,45,4],[45,5,45,6],[45,7,45,8],[46,1,46,2],[46,3,46,4],[46,5,46,6],[46,7,46,8],[46,9,46,10],[46,11,46,12],[47,1,47,2],[47,3,47,4],[48,1,48,2],[48,3,48,4],[49,1,49,2],[49,3,49,4],[49,5,49,6],[49,7,49,8],[50,1,50,2],[50,3,50,4],[50,5,50,6],[50,7,50,8],[50,9,50,10],[50,11,50,12],[51,1,51,2],[51,3,51,4],[52,1,52,2],[52,3,52,4],[52,5,52,6],[52,7,52,8],[52,9,52,10],[52,11,52,12],[53,1,53,2],[53,3,53,4],[53,5,53,6],[53,7,53,8],[53,9,53,10],[53,11,53,12],[54,1,54,2],[54,3,54,4],[54,5,54,6],[54,7,54,8],[54,9,54,10],[54,11,54,12],[55,1,55,2],[55,3,55,4],[55,5,55,6],[55,7,55,8],[55,9,55,10],[55,11,55,12],[56,1,56,2],[56,3,56,4],[56,5,56,6],[56,7,56,8],[56,9,56,10],[56,11,56,12],[57,1,57,2],[57,3,57,4],[57,5,57,6],[57,7,57,8],[57,9,57,10],[57,11,57,12],[58,1,58,2],[58,3,58,4],[58,5,58,6],[58,7,58,8],[58,9,58,10],[58,11,58,12],[59,1,59,2],[59,3,59,4],[59,5,59,6],[59,7,59,8],[59,9,59,10],[59,11,59,12],[60,1,60,2],[60,3,60,4],[60,5,60,6],[60,7,60,8],[60,9,60,10],[60,11,60,12],[61,1,61,2],[61,3,61,4],[62,1,62,2],[62,3,62,4],[62,5,62,6],[62,7,62,8],[62,9,62,10],[62,11,62,12],[67,1,67,2],[67,3,67,4],[67,5,67,6],[67,7,67,8],[67,9,67,10],[67,11,67,12]]}
[]
[]
[]
[]
[null,"ИТОГО:",{"$f":"SUM(#REF!)","v":{"$error":"#REF!"}},null,{"$f":"SUM(#REF!)","v":{"$error":"#REF!"}},null,{"$f":"SUM(#REF!)","v":{"$error":"#REF!"}},null,{"$f":"SUM(#REF!)","v":{"$error":"#REF!"}},null,{"$f":"SUM(#REF!)","v":{"$error":"#REF!"}},null,{"$f":"SUM(#REF!)","v":{"$error":"#REF!"}},null,{"$f":"SUM(#REF!)","v":{"$error":"#REF!"}},{"$f":"SUM(#REF!)","v":{"$error":"#REF!"}},{"$f":"SUM(#REF!)","v":{"$error":"#REF!"}},{"$f":"SUM(#REF!)","v":{"$error":"#REF!"}}]
[]
[]
[]
[]
[]
[]
[null,{"$f":"SUM(#REF!)","v":{"$error":"#REF!"}},null,{"$f":"SUM(#REF!)","v":{"$error":"#REF!"}},null,{"$f":"SUM(#REF!)","v":{"$error":"#REF!"}},null,{"$f":"SUM(#REF!)","v":{"$error":"#REF!"}},null,{"$f":"SUM(#REF!)","v":{"$error":"#REF!"}},null,{"$f":"SUM(#REF!)","v":{"$error":"#REF!"}},null,{"$f":"SUM(#REF!)","v":{"$error":"#REF!"}},{"$f":"SUM(#REF!)","v":{"$error":"#REF!"}},{"$f":"SUM(#REF!)","v":{"$error":"#REF!"}},{"$f":"SUM(#REF!)","v":{"$error":"#REF!"}}]
[]
[]
[]
[null,2,null,30,null,1,null,12,null,2,null,20,null,5,62,2,25]
[null,3,null,45,null,2,null,24,{"$nulls":5},5,69]
[null,1,null,15,{"$nulls":9},1,15]
[null,2,null,30,{"$nulls":9},2,30,2,30]
[{"$nulls":5},1,null,12,null,1,null,10,null,2,22,1,10]
[{"$nulls":9},1,null,10,null,1,10]
[null,1,null,15,{"$nulls":5},3,null,30,null,4,45]
[{"$nulls":9},1,null,10,null,1,10]
[null,1,null,15,{"$nulls":9},1,15]
[{"$nulls":5},1,null,12,{"$nulls":5},1,12]
[{"$nulls":5},1,null,12,{"$nulls":5},1,12]
[{"$nulls":9},1,null,10,null,1,10]
[null,{"$f":"SUM(B16:B27)","v":10},null,{"$f":"SUM(D16:D27)","v":150},null,{"$f":"SUM(F16:F27)","v":6},null,{"$f":"SUM(H16:H27)","v":72},null,{"$f":"SUM(J16:J27)","v":9},null,{"$f":"SUM(L16:L27)","v":90},null,{"$f":"SUM(N16:N27)","v":25},{"$f":"SUM(O16:O27)","v":312},{"$f":"SUM(P16:P27)","v":5},{"$f":"SUM(Q16:Q27)","v":65}]
[]
[null,3,null,45,null,1,null,12,null,4,null,40,null,8,97]
[{"$nulls":5},2,null,24,{"$nulls":5},2,24]
[null,4,null,60,{"$nulls":9},4,60]
[null,1,null,15,{"$nulls":9},1,15]
[null,2,null,30,null,1,null,12,null,1,null,10,null,4,52]
[{"$nulls":9},1,null,10,null,1,10,1,10]
[null,1,null,15,null,4,null,48,{"$nulls":5},5,63]
[null,2,null,30,{"$nulls":5},3,null,30,null,5,60]
[{"$nulls":5},1,null,12,null,2,null,20,null,3,32,3,32]
[{"$nulls":5},2,null,24,{"$nulls":5},2,24,2,24]
[{"$nulls":5},1,null,12,null,1,null,10,null,2,22,2,22]
[null,2,null,30,{"$nulls":9},2,30]
[null,2,null,30,{"$nulls":5},2,2,20,null,4,50]
[{"$nulls":5},1,null,12,{"$nulls":5},1,12]
[{"$nulls":9},1,null,10,null,1,10]
[null,1,null,15,{"$nulls":9},1,15]
[null,1,null,15,{"$nulls":9},1,15]
[{"$nulls":9},1,null,10,null,1,10]
[null,1,null,15,{"$nulls":9},1,15]
[null,1,null,15,{"$nulls":9},1,15]
[null,1,null,15,{"$nulls":9},1,15]
[null,2,null,30,{"$nulls":5},2,null,20,null,4,50,2,20]
[null,1,null,15,{"$nulls":9},1,15]
[{"$nulls":9},1,null,10,null,1,10,1,10]
[null,2,null,30,{"$nulls":9},2,30]
[{"$nulls":5},1,null,12,{"$nulls":5},1,12]
[null,7,null,105,{"$nulls":9},7,105,3,45]
[{"$nulls":9},1,null,10,null,1,10]
[null,2,null,30,{"$nulls":9},2,30,2,30]
[null,2,null,30,{"$nulls":9},2,30,2,30]
[{"$nulls":5},1,null,12,null,2,null,20,null,3,32,3,32]
[null,1,null,15,{"$nulls":9},1,15]
[null,2,null,30,{"$nulls":9},2,30]
[{"$nulls":9},1,null,10,null,1,10]
[null,{"$f":"SUM(B30:B63)","v":41},null,{"$f":"SUM(D30:D63)","v":615},null,{"$f":"SUM(F30:F63)","v":15},null,{"$f":"SUM(H30:H63)","v":180},null,{"$f":"SUM(J30:J63)","v":23},{"$f":"SUM(K30:K63)","v":2},{"$f":"SUM(L30:L63)","v":230},null,{"$f":"SUM(N30:N63)","v":79},{"$f":"SUM(O30:O63)","v":1025},{"$f":"SUM(P30:P63)","v":21},{"$f":"SUM(Q30:Q63)","v":255}]
[]
[]
[]
[null,{"$f":"SUM(B56:B67)","v":55},null,{"$f":"SUM(D56:D67)","v":825},null,{"$f":"SUM(F56:F67)","v":16},null,{"$f":"SUM(H56:H67)","v":192},null,{"$f":"SUM(J56:J67)","v":27},null,{"$f":"SUM(L56:L67)","v":270},null,{"$f":"SUM(N56:N67)","v":98},{"$f":"SUM(O56:O67)","v":1287},{"$f":"SUM(P56:P67)","v":31},{"$f":"SUM(Q56:Q67)","v":392}]

{"sheet":"Лист6","index":6,"n_rows":29,"n_cols":21,"rows_kept":29,"merged":[[3,1,3,2],[3,3,3,4],[3,5,3,6],[3,7,3,8],[3,9,3,10],[3,11,3,12]]}
[]
[]
[]
[null,{"$f":"SUM(#REF!)","v":{"$error":"#REF!"}},null,{"$f":"SUM(#REF!)","v":{"$error":"#REF!"}},null,{"$f":"SUM(#REF!)","v":{"$error":"#REF!"}},null,{"$f":"SUM(#REF!)","v":{"$error":"#REF!"}},null,{"$f":"SUM(#REF!)","v":{"$error":"#REF!"}},null,{"$f":"SUM(#REF!)","v":{"$error":"#REF!"}},null,{"$f":"SUM(#REF!)","v":{"$error":"#REF!"}},{"$f":"SUM(#REF!)","v":{"$error":"#REF!"}},{"$f":"SUM(#REF!)","v":{"$error":"#REF!"}},{"$f":"SUM(#REF!)","v":{"$error":"#REF!"}}]
{"$rows_empty":9}
[{"$nulls":3},10,150,6,72,9,90,25,312,5,65]
[{"$nulls":3},41,615,15,180,23,230,79,1025,21,255]
[{"$nulls":3},8,120,5,60,3,30,16,210]
[{"$nulls":3},5,75,3,36,2,20,10,131]
[{"$nulls":3},6,90,2,24,1,10,9,124,5,70]
[{"$nulls":3},6,90,6,72,7,70,19,232,4,45]
[{"$nulls":3},{"$f":"SUM(D14:D19)","v":76},1140,37,444,45,450,158,2034,35,435]
[]
[]
[{"$nulls":3},10,150,40,null,6,72,36,null,9,90,54,null,25,312,130,null,5,65]
[{"$nulls":3},41,615,164,null,15,180,90,null,23,230,138,null,79,1025,392,70,21,255]
[{"$nulls":3},8,120,32,null,5,60,30,null,3,30,18,null,16,210,80]
[{"$nulls":3},5,75,20,null,3,36,18,null,2,20,12,null,10,131,50]
[{"$nulls":3},6,90,24,null,2,24,12,null,1,10,6,null,9,124,42,null,5,70]
[{"$nulls":3},6,90,24,null,6,72,36,null,7,70,42,null,19,232,102,18,4,45]
[{"$nulls":3},{"$f":"SUM(D23:D28)","v":76},{"$f":"SUM(E23:E28)","v":1140},{"$f":"SUM(F23:F28)","v":304},null,{"$f":"SUM(H23:H28)","v":37},{"$f":"SUM(I23:I28)","v":444},{"$f":"SUM(J23:J28)","v":222},null,{"$f":"SUM(L23:L28)","v":45},{"$f":"SUM(M23:M28)","v":450},{"$f":"SUM(N23:N28)","v":270},null,{"$f":"SUM(P23:P28)","v":158},2034,796,88,35,435]

{"sheet":"Комплектование","index":7,"n_rows":97,"n_cols":18,"rows_kept":97,"merged":[[0,0,0,19],[2,0,6,0],[2,1,6,1],[2,2,3,15],[2,16,5,17],[4,2,5,5],[4,6,5,9],[4,10,5,13],[4,14,5,15],[6,2,6,3],[6,4,6,5],[6,6,6,7],[6,8,6,9],[6,10,6,11],[6,12,6,13],[7,1,7,17],[8,2,8,3],[8,4,8,5],[8,6,8,7],[8,8,8,9],[8,10,8,11],[8,12,8,13],[9,2,9,3],[9,4,9,5],[9,6,9,7],[9,8,9,9],[9,10,9,11],[9,12,9,13],[10,2,10,3],[10,4,10,5],[10,6,10,7],[10,8,10,9],[10,10,10,11],[10,12,10,13],[11,2,11,3],[11,4,11,5],[11,6,11,7],[11,8,11,9],[11,10,11,11],[11,12,11,13],[12,2,12,3],[12,4,12,5],[12,6,12,7],[12,8,12,9],[12,10,12,11],[12,12,12,13],[13,2,13,3],[13,4,13,5],[13,10,13,11],[13,12,13,13],[14,10,14,11],[14,12,14,13],[15,2,15,3],[15,4,15,5],[16,2,16,3],[16,4,16,5],[16,6,16,7],[16,8,16,9],[17,2,17,3],[17,4,17,5],[17,6,17,7],[17,8,17,9],[18,2,18,3],[18,4,18,5],[18,6,18,7],[18,8,18,9],[18,10,18,11],[18,12,18,13],[19,2,19,3],[19,4,19,5],[19,6,19,7],[19,8,19,9],[19,10,19,11],[19,12,19,13],[20,1,20,17],[21,2,21,3],[21,4,21,5],[21,6,21,7],[21,8,21,9],[21,10,21,11],[21,12,21,13],[22,2,22,3],[22,4,22,5],[22,6,22,7],[22,8,22,9],[23,2,23,3],[23,4,23,5],[24,2,24,3],[24,4,24,5],[25,2,25,3],[25,4,25,5],[26,2,26,3],[26,4,26,5],[26,6,26,7],[26,8,26,9],[26,10,26,11],[26,12,26,13],[27,2,27,3],[27,4,27,5],[27,6,27,7],[27,8,27,9],[27,10,27,11],[27,12,27,13],[28,2,28,3],[28,4,28,5],[28,6,28,7],[28,8,28,9],[28,10,28,11],[28,12,28,13],[29,2,29,3],[29,4,29,5],[29,6,29,7],[29,8,29,9],[29,10,29,11],[29,12,29,13],[30,2,30,3],[30,4,30,5],[30,6,30,7],[30,8,30,9],[30,10,30,11],[30,12,30,13],[31,2,31,3],[31,4,31,5],[31,6,31,7],[31,8,31,9],[31,10,31,11],[31,12,31,13],[32,2,32,3],[32,4,32,5],[32,6,32,7],[32,8,32,9],[32,10,32,11],[32,12,32,13],[33,2,33,3],[33,4,33,5],[33,6,33,7],[33,8,33,9],[33,10,33,11],[33,12,33,13],[34,2,34,3],[34,4,34,5],[34,6,34,7],[34,8,34,9],[34,10,34,11],[34,12,34,13],[35,2,35,3],[35,4,35,5],[35,6,35,7],[35,8,35,9],[35,10,35,11],[35,12,35,13],[36,2,36,3],[36,4,36,5],[36,6,36,7],[36,8,36,9],[36,10,36,11],[36,12,36,13],[37,2,37,3],[37,4,37,5],[37,6,37,7],[37,8,37,9],[37,10,37,11],[37,12,37,13],[38,2,38,3],[38,4,38,5],[38,6,38,7],[38,8,38,9],[39,2,39,3],[39,4,39,5],[39,6,39,7],[39,8,39,9],[39,10,39,11],[39,12,39,13],[40,2,40,3],[40,4,40,5],[41,2,41,3],[41,4,41,5],[42,2,42,3],[42,4,42,5],[42,6,42,7],[42,8,42,9],[43,2,43,3],[43,4,43,5],[43,6,43,7],[43,8,43,9],[43,10,43,11],[43,12,43,13],[44,2,44,3],[44,4,44,5],[45,2,45,3],[45,4,45,5],[45,6,45,7],[45,8,45,9],[45,10,45,11],[45,12,45,13],[46,2,46,3],[46,4,46,5],[46,6,46,7],[46,8,46,9],[46,10,46,11],[46,12,46,13],[47,2,47,3],[47,4,47,5],[47,6,47,7],[47,8,47,9],[47,10,47,11],[47,12,47,13],[48,2,48,3],[48,4,48,5],[49,2,49,3],[49,4,49,5],[49,6,49,7],[49,8,49,9],[49,10,49,11],[49,12,49,13],[50,2,50,3],[50,4,50,5],[50,6,50,7],[50,8,50,9],[50,10,50,11],[50,12,50,13],[51,2,51,3],[51,4,51,5],[51,6,51,7],[51,8,51,9],[51,10,51,11],[51,12,51,13],[52,2,52,3],[52,4,52,5],[52,6,52,7],[52,8,52,9],[52,10,52,11],[52,12,52,13],[53,2,53,3],[53,4,53,5],[53,6,53,7],[53,8,53,9],[53,10,53,11],[53,12,53,13],[54,2,54,3],[54,4,54,5],[54,6,54,7],[54,8,54,9],[54,10,54,11],[54,12,54,13],[55,2,55,3],[55,4,55,5],[56,2,56,3],[56,4,56,5],[57,2,57,3],[57,4,57,5],[57,6,57,7],[57,8,57,9],[57,10,57,11],[57,12,57,13],[58,2,58,3],[58,4,58,5],[58,6,58,7],[58,8,58,9],[58,10,58,11],[58,12,58,13],[59,1,59,17],[60,2,60,3],[60,4,60,5],[60,6,60,7],[60,8,60,9],[60,10,60,11],[60,12,60,13],[61,2,61,3],[61,4,61,5],[61,6,61,7],[61,8,61,9],[61,10,61,11],[61,12,61,13],[62,2,62,3],[62,4,62,5],[62,6,62,7],[62,8,62,9],[62,10,62,11],[62,12,62,13],[63,2,63,3],[63,4,63,5],[63,6,63,7],[63,8,63,9],[63,10,63,11],[63,12,63,13],[64,2,64,3],[64,4,64,5],[64,6,64,7],[64,8,64,9],[64,10,64,11],[64,12,64,13],[65,2,65,3],[65,4,65,5],[65,6,65,7],[65,8,65,9],[65,10,65,11],[65,12,65,13],[66,2,66,3],[66,4,66,5],[66,6,66,7],[66,8,66,9],[66,10,66,11],[66,12,66,13],[67,1,67,17],[68,2,68,3],[68,4,68,5],[69,2,69,3],[69,4,69,5],[70,2,70,3],[70,4,70,5],[70,6,70,7],[70,8,70,9],[70,10,70,11],[70,12,70,13],[71,2,71,3],[71,4,71,5],[71,6,71,7],[71,8,71,9],[72,2,72,3],[72,4,72,5],[73,2,73,3],[73,4,73,5],[73,6,73,7],[73,8,73,9],[73,10,73,11],[73,12,73,13],[74,2,74,3],[74,4,74,5],[74,6,74,7],[74,8,74,9],[74,10,74,11],[74,12,74,13],[75,2,75,3],[75,4,75,5],[75,6,75,7],[75,8,75,9],[75,10,75,11],[75,12,75,13],[76,1,76,17],[77,2,77,3],[77,4,77,5],[78,2,78,3],[78,4,78,5],[78,6,78,7],[78,8,78,9],[78,10,78,11],[78,12,78,13],[79,2,79,3],[79,4,79,5],[79,6,79,7],[79,8,79,9],[79,10,79,11],[79,12,79,13],[80,2,80,3],[80,4,80,5],[80,6,80,7],[80,8,80,9],[80,10,80,11],[80,12,80,13],[81,2,81,3],[81,4,81,5],[82,2,82,3],[82,4,82,5],[83,2,83,3],[83,4,83,5],[83,6,83,7],[83,8,83,9],[84,2,84,3],[84,4,84,5],[84,6,84,7],[84,8,84,9],[84,10,84,11],[84,12,84,13],[85,1,85,17],[86,2,86,3],[86,4,86,5],[86,6,86,7],[86,8,86,9],[86,10,86,11],[86,12,86,13],[87,2,87,3],[87,4,87,5],[87,6,87,7],[87,8,87,9],[87,10,87,11],[87,12,87,13],[88,2,88,3],[88,4,88,5],[88,6,88,7],[88,8,88,9],[88,10,88,11],[88,12,88,13],[89,2,89,3],[89,4,89,5],[89,6,89,7],[89,8,89,9],[89,10,89,11],[89,12,89,13],[94,1,94,16],[96,1,96,16]]}
["КОМПЛЕКТОВАНИЕ ГРУПП \nМУНИЦИПАЛЬНОГО БЮДЖЕТНОГО УЧРЕЖДЕНИЯ ДОПОЛНИТЕЛЬНОГО ОБРАЗОВАНИЯ \n«ДВОРЕЦ ТВОРЧЕСТВА ДЕТЕЙ И МОЛОДЕЖИ имени И.Х.САДЫКОВА» НИЖНЕКАМСКОГО МУНИЦИПАЛЬНОГО РАЙОНА РЕСПУБЛИКИ ТАТАРСТАН  \nНА 1 СЕНТЯБРЯ  2025  ГОДА\n"]
[]
["№ п/п","Направленность. Вид, наименование общеразвивающей программы, возраст учащихся,\nсрок реализации\n","Комплектование                                                                                                                                                                                                                                                                                                                         Количество групп, учащихся",{"$nulls":13},"Из них занимаются в ДТДиМ"]
[]
[null,null,"1 года обучения. Количество",{"$nulls":3},"2 года обучения. Количество",{"$nulls":3},"3 и более год обучения. Количество ",{"$nulls":3},"Всего. Количество "]
[]
[null,null,"группа",null,"учащиеся",null,"группа",null,"учащиеся",null,"группа",null,"учащиеся",null,"группа","учащиеся","группа","учащиеся"]
[null,"Техническая направленность "]
[1,"Авторская, \n«Начальное техническое моделирование с элементами компьютерной графики», \n7-10 лет , 4 года\n",2,null,30,null,1,null,12,null,2,null,20,null,5,62,2,20]
[2,"Модифицированная,\n«Начальное техническое моделирование»,                       7-12 лет,\n4 года\n",3,null,45,null,2,null,24,{"$nulls":5},5,69]
[3,"Модифицированная,\n«Основы робототехники»,                                  10-16 лет,\n2 года\n",1,null,15,{"$nulls":9},1,15]
[4,"Модифицированная,                  \"Мастерская идей\",                 7-11 лет, 4 года ",{"$nulls":4},1,null,12,null,1,null,10,null,2,22,1,10]
[5,"Модифицированная, \"Увлекательное моделирование\",                     7-11 лет, 4 года",{"$nulls":8},1,null,10,null,1,10]
[6,"Модифицированная, \"Анимационная студия \"Детство\",                                  7-12 лет, 4 года ",1,null,15,{"$nulls":5},3,null,30,null,4,45]
[7,"Модифицированная, \"Самоделкины\",                                    7-12 лет, 4 года ",{"$nulls":8},1,null,10,null,1,10]
[8,"Модифицированная,             \"3D - моделирование\",                                 10- 16 лет, 1 год ",3,null,45,{"$nulls":9},3,45]
[9,"Модифицированная, \"Мастеринка\",                                       7-10 лет, 2 года",{"$nulls":4},1,null,12,{"$nulls":5},1,12]
[10,"Модифицированная, \"Электроник\",                   7-9 лет, 2 года",{"$nulls":4},1,null,12,{"$nulls":5},1,12]
[11,"Модифицированная, \"Умелые ручки\",              7-12 лет, 4 года",{"$nulls":8},1,null,10,null,1,10]
[null,"ИТОГО:",{"$f":"SUM(C9:C19)","v":10},null,{"$f":"SUM(E9:E19)","v":150},null,{"$f":"SUM(G9:G19)","v":6},null,{"$f":"SUM(I9:I19)","v":72},null,{"$f":"SUM(K9:K19)","v":9},null,{"$f":"SUM(M9:M19)","v":90},null,{"$f":"SUM(O9:O19)","v":25},{"$f":"SUM(P9:P19)","v":312},{"$f":"SUM(Q9:Q19)","v":3},30]
[null,"Художественная направленность "]
[12,"Авторская,                     «Курай», \n7-13 лет, 4 года\n",2,null,30,null,1,null,12,null,4,null,40,null,7,82]
[13,"Модифицированная,                         «Тел күрке - сүз»,          11-15 лет,\n3  года",{"$nulls":4},2,null,24,{"$nulls":5},2,24]
[14,"Модифицированная,                         «Күңелле сәхнә»,            11-15 лет,\n3  года",4,null,60,{"$nulls":9},4,60]
[15,"Модифицированная,                         «Сәнгатьле сүз»,                           10-14 лет,\n1 год",1,null,15,{"$nulls":9},1,15]
[16,"Модифицированная,                         «Таван театр»,                           9-11 лет,\n1 год",1,null,15,{"$nulls":9},1,15]
[17,"Модифицированная\n«Народно-сценические танцы»,                                   7-13 лет,\n5 лет",2,null,30,null,1,null,12,null,1,null,10,null,4,52]
[18,"Адаптированная,\n «Лепка»,                                       7-14 лет, 4 года\n",{"$nulls":8},1,null,10,null,1,10,1,10]
[19,"Модифицированная,\n«Художники»,                             7-11 лет,4 года\n",1,null,15,null,4,null,48,{"$nulls":5},5,63]
[20,"Модифицированная,\n«Веселая кисточка»,\n7-12 лет, 3 года\n",2,null,30,{"$nulls":5},3,null,30,null,5,60]
[21,"Модифицированная,\n«ИЗО»,\n8-14 лет, 3 года\n",{"$nulls":4},1,null,12,null,2,null,20,null,3,32,3,32]
[22,"Авторская,\n«Основы дизайна»,\n7-13 лет, 4 года \n",{"$nulls":4},2,null,24,{"$nulls":5},2,24,2,24]
[23,"Авторская, «Бисероплетение»,\n 7-15 лет, 3 года \n",{"$nulls":4},1,null,12,null,1,null,10,null,2,22,2,22]
[24,"Авторская, \n«Цветоделие»,\n7-15 лет, 3 года\n",2,null,30,{"$nulls":9},2,30]
[25,"Модифицированная,\n«Юный дизайнер»,                            7-14 лет,4  года\n",2,null,30,{"$nulls":5},2,2,20,null,4,50]
[26,"Авторская,\n«Волшебная кисточка»,\n7-15 лет, 3 года\n",{"$nulls":4},1,null,12,{"$nulls":5},1,12]
[27,"Модифицированная,\n«Калейдоскоп\nфантазий»,                                  10-15 лет, 3 года\n",{"$nulls":8},1,null,10,null,1,10]
[28,"Модифицированная, \n«Art-студия»,                                         7-14 лет,4 года\n",1,null,15,{"$nulls":9},1,15]
[29,"Модифицированная, \n«Кудесники»,                                    7-10 лет, 2 года\n",1,null,15,{"$nulls":9},1,15]
[30,"Модифицированная, \n«Волшебная мастерская»,                                               7-11 лет,  4 года\n",{"$nulls":8},1,null,10,null,1,10]
[31,"Модифицированная, \n«Разноцветная палитра»,                             7-11 лет, 1 год\n",1,null,15,{"$nulls":9},1,15]
[32,"Модифицированная, \n«Юные да Винчи»,                          7-10 лет, 1 год\n",1,null,15,{"$nulls":9},1,15]
[33,"Модифицированная, \n\"Вокал «Радуга»,                                 7-10 лет, 2 года \n",1,null,15,{"$nulls":9},1,15]
[34,"Модифицированная\n «Хореография.Грация»,\n5-14 лет, 4года  ",2,null,30,{"$nulls":5},2,null,20,null,4,50,2,20]
[35,"Модифицированная, \"Веселая сцена\"                                10-13 лет, 3 года ",1,null,15,{"$nulls":9},1,15]
[36,"Модифицированная, «Литературно драматическое»,\n7-15 лет, 4 года ",1,null,15,{"$nulls":5},1,null,10,null,2,25,2,25]
[37,"Модифицированная, \n«РФА «Забавята»,                   7-11 лет, 3 год \n",2,null,30,{"$nulls":9},2,30]
[38,"Модифицированная, «РФА»,                             7-11 лет,\n4 года \n",{"$nulls":4},1,null,12,{"$nulls":5},1,12]
[39,"Модифицированная,\n«Вокал \"Веселые нотки»,                           7-16 лет,  \n2 года ",1,null,15,{"$nulls":9},1,15]
[40,"Модифицированная,\n«Вокал»,7-16 лет,  \n2 года ",5,null,75,{"$nulls":9},5,75,3,45]
[41,"Модифицированная,\n«Вокал.\" Каприз»,                   7-16 лет,  \n3 года ",{"$nulls":8},1,null,10,null,1,10]
[42,"Модифицированная\n «Хореография. Брависсимо»,\n7-16 лет, 7 лет",2,null,30,{"$nulls":9},2,30,2,30]
[43,"Модифицированная\n «Ascension»,\n14-18 лет,3 года",2,null,30,{"$nulls":9},2,30,2,30]
[44,"Модифицированная,\n«Вокал. Карамельки»,                      7-15 лет, \n4года",{"$nulls":4},1,null,12,null,2,null,20,null,3,32,3,32]
[45,"Модифицированная,                                   \"Художественное слово\"                                                      8-13 лет ,2 года",1,null,15,{"$nulls":9},1,15]
[46,"Модифицированная\n «Театральная студия \"Браво»,\n10-14 лет, 1 год",2,null,30,{"$nulls":9},2,30]
[47,"Модифицированная\n «Театральная студия \"Тарарабумбия», \n10-15 лет, 1 год",1,null,15,{"$nulls":9},1,15]
[48,"Модифицированная\n «Театральная студия \"Настроение»,\n7-12 лет, 4 года",{"$nulls":8},1,null,10,null,1,10]
[null,"ИТОГО:",{"$f":"SUM(C22:C58)","v":42},null,{"$f":"SUM(E22:E58)","v":630},null,{"$f":"SUM(G22:G58)","v":15},null,{"$f":"SUM(I22:I58)","v":180},null,{"$f":"SUM(K22:K58)","v":23},null,{"$f":"SUM(M22:M58)","v":230},null,{"$f":"SUM(O22:O58)","v":80},{"$f":"SUM(P22:P58)","v":1040},{"$f":"SUM(Q28:Q58)","v":22},{"$f":"SUM(R28:R58)","v":270}]
[null,"Туристско-краеведческая направленность "]
[49,"Авторская,\n«Туган як табигатен өйрәнү»,                                   7-12 лет, 3 года \n",1,null,15,null,2,null,24,null,2,null,20,null,5,59]
[50,"Авторская,   \n«Краеведение»,                                           7-10 лет, \n3 года\n",{"$nulls":4},1,null,12,{"$nulls":5},1,12]
[51,"Модифицированная \n«Туган як тарихын һәм мәдәниятен өйрәнү»            7-11 лет, 4 года\n",2,null,30,{"$nulls":9},2,30]
[52,"Модифицированная, \n«Изучение истории и культуры русского народа»,\n10-13 лет, 3 года\n",{"$nulls":8},1,null,10,null,1,10]
[53,"Модифицированная\n«Юный стрелок»\n11-16 лет, 2 года\n",2,null,30,{"$nulls":9},2,30]
[54,"Модифицированная\n«Орнамент в народном творчестве»,                               7-11 лет,2года\n",3,null,45,null,2,null,24,{"$nulls":5},5,69]
[null,"ИТОГО:",{"$f":"SUM(C61:C66)","v":8},null,{"$f":"SUM(E61:E66)","v":120},null,{"$f":"SUM(G61:G66)","v":5},null,{"$f":"SUM(I61:I66)","v":60},null,{"$f":"SUM(K61:K66)","v":3},null,{"$f":"SUM(M61:M66)","v":30},null,{"$f":"SUM(O61:O66)","v":16},{"$f":"SUM(P61:P66)","v":210}]
[null,"Естественнонаучная направленность"]
[55,"Модифицированная, \n«Географическое творчество»,\n10-16 лет, 1 год\n",2,null,30,{"$nulls":9},2,30]
[56,"Модифицированная, \n«Занимательная география»,\n10-16 лет, 1 год\n",1,null,15,{"$nulls":9},1,15]
[57,"Модифицированная, \n«Яшь эзләнүчеләр»,\n12-16 лет, 3 года\n",{"$nulls":8},1,null,10,null,1,10]
[58,"Модифицированная, \n«Школа Кота да Винчи»,\n11-13 лет, 2 года\n",{"$nulls":4},1,null,12,{"$nulls":5},1,12]
[59,"Модифицированная, \n«Уйла,  эзлә,тап»,\n12-16 лет, 1 год\n",1,null,15,{"$nulls":9},1,15]
[60,"Модифицированная,                      «Юные экологи»,                            14-15 лет, 1 год",1,null,15,{"$nulls":9},1,15]
[61,"Авторская, \n«Веселый английский»,                            7-10 лет, \n3 года\n",{"$nulls":4},2,null,24,null,1,null,10,null,3,34]
[null,"ИТОГО:",{"$f":"SUM(C69:C75)","v":5},null,{"$f":"SUM(E69:E75)","v":75},null,{"$f":"SUM(G69:G75)","v":3},null,{"$f":"SUM(I69:I75)","v":36},null,2,null,20,null,{"$f":"SUM(O69:O75)","v":10},{"$f":"SUM(P69:P75)","v":131}]
[null,"Социально- гуманитарная направленность"]
[62,"Модифицированная, «Инициатива»,                       14-17 лет, \n1 год\n",1,null,15,{"$nulls":9},1,15,1,15]
[63,"Авторская, «Школа инициативы»,                        14-17 лет, \n3 года\n",1,null,15,{"$nulls":9},1,15,1,15]
[64,"Адаптированная,  \n«Шаг вперед»,                          10-15 лет,      1 год\n",1,null,15,{"$nulls":9},1,15,1,15]
[65,"Авторская, \n«Учеба профилактических волонтеров»,                                  13-16 лет, \n3 года",1,null,15,{"$nulls":5},1,null,10,null,2,25,2,25]
[66,"Модифицированная, \"Прочитай-ка\",                                     7-11 лет, 1 год",1,null,15,{"$nulls":9},1,15]
[67,"Модифицированная, \"Палитра эмоций\"             12-16 лет, 1 год",1,null,15,{"$nulls":9},1,15]
[68,"Модифицированная, \n«Мирас»                           15-17 лет,  2 года\n",{"$nulls":4},2,null,24,{"$nulls":5},2,24]
[null,"ИТОГО:",{"$f":"SUM(C78:C84)","v":6},null,{"$f":"SUM(E78:E84)","v":90},null,{"$f":"SUM(G79:G84)","v":2},null,{"$f":"SUM(I79:I84)","v":24},null,{"$f":"SUM(K79:K84)","v":1},null,{"$f":"SUM(M79:M84)","v":10},null,{"$f":"SUM(O78:O84)","v":9},{"$f":"SUM(P78:P84)","v":124},{"$f":"SUM(Q78:Q84)","v":5},{"$f":"SUM(R78:R84)","v":70}]
[null,"Физкультурно-спортивная  направленность "]
[69,"Авторская,\n«Спортивные бальные танцы»,\n7-17 лет, 6 лет",1,null,15,{"$nulls":5},3,null,30,null,4,45,4,45]
[70,"Типовая,  \n«Шахматы»,                            8-14 лет, 3 года\n",6,null,90,null,6,null,72,null,4,null,40,null,15,202]
[null,"ИТОГО:",7,null,105,null,{"$f":"SUM(G87:G88)","v":6},null,{"$f":"SUM(I87:I88)","v":72},null,{"$f":"SUM(K87:K88)","v":7},null,{"$f":"SUM(M87:M88)","v":70},null,20,247,4,45]
[null,"ИТОГО ПО ВСЕМ НАПРАВЛЕННОСТЯМ: ",78,null,1170,null,37,null,444,null,45,null,450,null,160,2064,34,415]
[]
[]
[null,"Директор",{"$nulls":11},"Р.Н. Салихзянов"]
[]
[null,"Директор МБУ «Центр образования» НМР РТ                                                                      Р.И.Джалолова                 "]
[]
[null,"Заместитель главного бухгалтера ЦБ                                                                                      Л.М. Шакирова"]